BEGIN:VCALENDAR
VERSION:2.0
PRODID:-//Oulun Uinti - ECPv6.15.20//NONSGML v1.0//EN
CALSCALE:GREGORIAN
METHOD:PUBLISH
X-WR-CALNAME:Oulun Uinti
X-ORIGINAL-URL:https://www.oulunuinti.fi
X-WR-CALDESC:Tapahtumat Oulun Uinti
REFRESH-INTERVAL;VALUE=DURATION:PT1H
X-Robots-Tag:noindex
X-PUBLISHED-TTL:PT1H
BEGIN:VTIMEZONE
TZID:Europe/Moscow
BEGIN:STANDARD
TZOFFSETFROM:+0300
TZOFFSETTO:+0300
TZNAME:MSK
DTSTART:20170101T000000
END:STANDARD
END:VTIMEZONE
BEGIN:VEVENT
DTSTART;TZID=Europe/Moscow:20190420T153000
DTEND;TZID=Europe/Moscow:20190421T210000
DTSTAMP:20260422T150447
CREATED:20190410T074302Z
LAST-MODIFIED:20190410T074302Z
UID:1772-1555774200-1555880400@www.oulunuinti.fi
SUMMARY:Pääsiäisenä EI OLE perheuintivuoroja!
DESCRIPTION:Pääsiäisenä lomaillaan\, eli lauantaina 20.4. eikä sunnuntaina 21.4. ole perheuintivuoroja eikä uimakouluja!
URL:https://www.oulunuinti.fi/tapahtuma/paasiaisena-ei-ole-perheuintivuoroja/
LOCATION:Oulun uimahalli
CATEGORIES:Uimakoulut
END:VEVENT
BEGIN:VEVENT
DTSTART;TZID=Europe/Moscow:20190413T080000
DTEND;TZID=Europe/Moscow:20190413T150000
DTSTAMP:20260422T150447
CREATED:20190125T081411Z
LAST-MODIFIED:20190125T081411Z
UID:1700-1555142400-1555167600@www.oulunuinti.fi
SUMMARY:Uppopallon SM-turnaus
DESCRIPTION:Vesimiehet järjestävät uppopallon SM-turnauksen Oulun Uimahallissa 13.4.2019 klo 8.00-15.00\, koko syväpää on varattu turnaukseen.
URL:https://www.oulunuinti.fi/tapahtuma/uppopallon-sm-turnaus/
CATEGORIES:Tapahtumat Oulun uimahallissa
ATTACH;FMTTYPE=image/jpeg:https://www.oulunuinti.fi/wp-content/uploads/Raksila-kisa.jpg
END:VEVENT
BEGIN:VEVENT
DTSTART;TZID=Europe/Moscow:20190410T173000
DTEND;TZID=Europe/Moscow:20190410T193000
DTSTAMP:20260422T150447
CREATED:20190326T185203Z
LAST-MODIFIED:20190326T185203Z
UID:1768-1554917400-1554924600@www.oulunuinti.fi
SUMMARY:Hallituksen kokous
DESCRIPTION:Oulun Uinnin hallituksen kokous 10.4.2019 klo 17.30-19.30 Oulun Uimahalli seuran neuvotteluhuone.
URL:https://www.oulunuinti.fi/tapahtuma/hallituksen-kokous-4/
LOCATION:Oulun uimahalli
END:VEVENT
BEGIN:VEVENT
DTSTART;TZID=Europe/Moscow:20190406T080000
DTEND;TZID=Europe/Moscow:20190407T190000
DTSTAMP:20260422T150447
CREATED:20190102T121154Z
LAST-MODIFIED:20190221T085827Z
UID:1667-1554537600-1554663600@www.oulunuinti.fi
SUMMARY:Nuorisouinnit
DESCRIPTION:Nuorisouinnit 2019 kutsu
URL:https://www.oulunuinti.fi/tapahtuma/nuorisouinnit/
LOCATION:Oulun uimahalli
CATEGORIES:Kilpauinti,Tapahtumat Oulun uimahallissa
ATTACH;FMTTYPE=image/png:https://www.oulunuinti.fi/wp-content/uploads/Tähtiseura-3.png
END:VEVENT
BEGIN:VEVENT
DTSTART;TZID=Europe/Moscow:20190401T170000
DTEND;TZID=Europe/Moscow:20190401T190000
DTSTAMP:20260422T150447
CREATED:20181101T104110Z
LAST-MODIFIED:20190325T115516Z
UID:1532-1554138000-1554145200@www.oulunuinti.fi
SUMMARY:Hallituskahvit
DESCRIPTION:Tervetuloa hallituskahveille 25.3. klo 17-19 Oulun Uinnin neuvotteluhuoneelle!
URL:https://www.oulunuinti.fi/tapahtuma/hallituskahvit-2/
LOCATION:Oulun uimahalli
CATEGORIES:Tapahtumat Oulun uimahallissa
ATTACH;FMTTYPE=image/jpeg:https://www.oulunuinti.fi/wp-content/uploads/Pääkuva-5-e1491917356688.jpg
END:VEVENT
BEGIN:VEVENT
DTSTART;TZID=Europe/Moscow:20190326T180000
DTEND;TZID=Europe/Moscow:20190326T200000
DTSTAMP:20260422T150447
CREATED:20190206T100329Z
LAST-MODIFIED:20190206T100329Z
UID:1715-1553623200-1553630400@www.oulunuinti.fi
SUMMARY:Oulun Uinnin hallituksenkokous
DESCRIPTION:Oulun Uinnin hallituksen kokous seuran neuvotteluhuoneessa.
URL:https://www.oulunuinti.fi/tapahtuma/oulun-uinnin-hallituksenkokous/
LOCATION:Oulun uimahalli
ATTACH;FMTTYPE=image/jpeg:https://www.oulunuinti.fi/wp-content/uploads/Pääkuva-5-e1491917356688.jpg
END:VEVENT
BEGIN:VEVENT
DTSTART;TZID=Europe/Moscow:20190326T120000
DTEND;TZID=Europe/Moscow:20190327T140000
DTSTAMP:20260422T150447
CREATED:20190125T082602Z
LAST-MODIFIED:20190125T082602Z
UID:1708-1553601600-1553695200@www.oulunuinti.fi
SUMMARY:Huippu-uinnin auditointi
DESCRIPTION:Suomen Uimaliitto ja Olympiakomitea auditoivat Oulun Uinnin Huippu-Uinnin osana Tähtiseura statusta. Auditoijina Ippe Natunen ja Outi Aarresola. Samalla 26.3. klo 18.00-20.00 myös Oulun Uinnin hallituksen kokous.
URL:https://www.oulunuinti.fi/tapahtuma/huippu-uinnin-auditointi/
LOCATION:Oulun uimahalli
CATEGORIES:Kilpauinti
ATTACH;FMTTYPE=image/png:https://www.oulunuinti.fi/wp-content/uploads/huippu_uinti_rgb_72dpi.png
END:VEVENT
BEGIN:VEVENT
DTSTART;TZID=Europe/Moscow:20190316T090000
DTEND;TZID=Europe/Moscow:20190316T150000
DTSTAMP:20260422T150447
CREATED:20190125T081146Z
LAST-MODIFIED:20190125T081146Z
UID:1698-1552726800-1552748400@www.oulunuinti.fi
SUMMARY:Haukiuinnit
DESCRIPTION:Haukiputaan Heitto järjestää kansalliset Haukiuinnit Oulun Uinahallissa klo 9.00 -15.oo\, koko syväpää ja matalasta päästä neljä rataa on varattu kilpailu käyttöön. Kisoihin ilmoittautuminen oman valmentajan kautta\, seura laskuttaa starttimaksut kisan jälkeen uimareilta.
URL:https://www.oulunuinti.fi/tapahtuma/haukiuinnit/
CATEGORIES:Tapahtumat Oulun uimahallissa
ATTACH;FMTTYPE=image/jpeg:https://www.oulunuinti.fi/wp-content/uploads/Noora-Pu.jpg
END:VEVENT
BEGIN:VEVENT
DTSTART;TZID=Europe/Moscow:20190223T120000
DTEND;TZID=Europe/Moscow:20190224T160000
DTSTAMP:20260422T150447
CREATED:20190219T100940Z
LAST-MODIFIED:20190219T110955Z
UID:1665-1550923200-1551024000@www.oulunuinti.fi
SUMMARY:Oulun Uinnit\, ALOITUS LA klo 12.00!
DESCRIPTION:HOXHOX!!! Kisojen aloitus lauantaina 23.3 klo 12.00! \nOsallistujalistat ja arvioidut aikataulut Livetimingissa \n  \nToimitsijainfo: \nPaidat:\n1.lk uudet tuomarit-kenellä paitaa ei vielä ole\, voi kysellä Anulta niitä/kisakansliasta\n2.lk ja muut tehtävät:Toimitsijapaidat ovat näissä molemmissa kilpailuissa valkoiset. Seuralla on jonkinverran vielä ylimääräisiä valkoisia paitoja. Jos valkoista paitaa ei ole\, myös muut seuran t-paidat sopivat hyvin etenkin muissa tehtävissä työskentelevillä.\nTummat shortsit tai muut kevyet housut ja vedenkestävät kengät. \nToimitsijaruokailu on näissä kilpailuissa tällä kertaa kahvion linjasto. Jaksojen alussa ja tauoilla on tarjolla toimitsijoille kahvia ja pientä purtavaa Oulun Uinnin neukkarissa. Ruokailuun jaetaan ruokaliput. Erityisruokavalio ilmoittakaa ne Anulle\, niin laitetaan ne tilaukseen. Ruokaliput jaetaan huollon toimesta OU-neukkarista. Ruokailu myös toimitsijoiden kilpaileville lapsille.\n1 lippu/jakso \nLa 23.2.2019\nLa aamuna klo 08.30 Rakentajat paikalle. HUOM! muuttunut aikataulu\nHuolto/kisakanslia/aula ja myöskin uimahallin ovet avataan kilpailijoille klo 10.15\nVerra alkaa 10.30\nMuut toimitsijat klo 11.10 OU-liikuntasali\nKisat alkavat klo 12.00\nJakso kestää n. 8 h taukoineen\n2 taukoa n klo 15.40 ja klo 19.13 \nSunnuntai 24.2.2019\nSu aamuna klo 08.00 Kisakanslia/Aula/Akvaario paikalle\nMuut toimitsijat klo 08.50 OU-liikuntasali\nKisat alkavat klo 09.30\nJakso kestää n. 7 h taukoineen\n1 tauko n. klo 13.50 \nTulostan toimitsijalistan kahvioon\, käykää raksimassa nimi\, kun olette paikalla\, niin tiedetään ketkä on jo hallilla. \nVerryttelyyn on varattu kunto-allas\nHalli on suljettu muulta yleisöltä viikonlopun ajan. Meidän omat seuranvuorot pyörivät osittain normaalisti. Siitä on tiedotettu ryhmiä. \nPuretaan porukalla sunnuntaina kisat ja päästään kaikki ajoissa kotiin hengähtään ennen uutta viikkoa. \nSamaan aikaan pesäpallostadionilla on tapahtuma. Parkkitilaa on varmasti vähän. Suosittelen toimitsijoita parkkeeraamaan Oulunhallin parkkipaikoille. \nToimitsijailmottautuminen: Lisää kommenttina oma nimesi haluamaasi kohtaan.\nhttps://docs.google.com/spreadsheets/d/1aq14tfJ2nbY0EylvYWzst5FdTtserhmk5KaDI0dm-WQ/edit#gid=259451392
URL:https://www.oulunuinti.fi/tapahtuma/oulun-uinnit-2/
LOCATION:Oulun uimahalli
CATEGORIES:Kilpauinti,Tapahtumat Oulun uimahallissa
END:VEVENT
BEGIN:VEVENT
DTSTART;TZID=Europe/Moscow:20190218T180000
DTEND;TZID=Europe/Moscow:20190218T200000
DTSTAMP:20260422T150447
CREATED:20190125T082230Z
LAST-MODIFIED:20190125T082230Z
UID:1706-1550512800-1550520000@www.oulunuinti.fi
SUMMARY:OU-hallituksen kokous
DESCRIPTION:Oulun Uinnin hallituksen kokous seuran neuvotteluhuoneessa.
URL:https://www.oulunuinti.fi/tapahtuma/ou-hallituksen-kokous/
LOCATION:Oulun uimahalli
CATEGORIES:Tapahtumat Oulun uimahallissa
ATTACH;FMTTYPE=image/jpeg:https://www.oulunuinti.fi/wp-content/uploads/Tähtiseura.jpg
END:VEVENT
BEGIN:VEVENT
DTSTART;TZID=Europe/Moscow:20190216T153000
DTEND;TZID=Europe/Moscow:20190217T201500
DTSTAMP:20260422T150447
CREATED:20190212T083641Z
LAST-MODIFIED:20190212T090630Z
UID:1723-1550331000-1550434500@www.oulunuinti.fi
SUMMARY:Monipuolisuuspäivä
DESCRIPTION:Ystävänpäiväviikon kunniaksi on lauantaina 16.2. klo 15.30-18.00 ja sunnuntaina 17.2. klo 18.00-20.15 monipuolisuuspäivät seuran perheuintivuorolla. Tämä koskee  EasySwim- ja Kiiturit-ryhmiä. Normaali uimakouluja ei ES- eikä Kiiturit-ryhmille siis ole!  Käytössä on Wibit-vesitemppurata ja vesijuoksumatto sekä hyppytornit. Lapset saavat kiertää vanhempien kanssa ja valvonnassa eri paikoissa. Myös sisarukset ovat tervetulleita monipuolisuuspäivään. \nSekaristeilla on harjoitukset normaalisti kuntoaltaalla lauantaina ja sunnuntaina. He voivat osallistua monipuolisuuspäivään harjoitusten jälkeen.
URL:https://www.oulunuinti.fi/tapahtuma/monipuolisuuspaiva-4/
LOCATION:Oulun uimahalli
CATEGORIES:Tapahtumat Oulun uimahallissa,Uimakoulut
ATTACH;FMTTYPE=image/jpeg:https://www.oulunuinti.fi/wp-content/uploads/OU-Wibit.jpg
END:VEVENT
BEGIN:VEVENT
DTSTART;TZID=Europe/Moscow:20190209T153000
DTEND;TZID=Europe/Moscow:20190209T183000
DTSTAMP:20260422T150447
CREATED:20190102T120915Z
LAST-MODIFIED:20190207T111929Z
UID:1663-1549726200-1549737000@www.oulunuinti.fi
SUMMARY:Masters Talviuinnit ja OuluCup
DESCRIPTION:Lauantaina 9.2.2019 klo 16.30 alkaen uidaan Oulun Uimahallissa Masters Talviuinnit ja OuluCup. \nKisojen aikataulu löytyy TÄSTÄ  \nMasters kisojen osallistujalista löytyy TÄSTÄ \nJa OuluCup osallistujalista TÄSTÄ
URL:https://www.oulunuinti.fi/tapahtuma/masters-talviuinnit-2/
LOCATION:Oulun uimahalli
CATEGORIES:Kilpauinti,Tapahtumat Oulun uimahallissa
ATTACH;FMTTYPE=image/jpeg:https://www.oulunuinti.fi/wp-content/uploads/Masters-kylpytakit-.jpg
END:VEVENT
BEGIN:VEVENT
DTSTART;TZID=Europe/Moscow:20190128T173000
DTEND;TZID=Europe/Moscow:20190128T193000
DTSTAMP:20260422T150447
CREATED:20190125T080550Z
LAST-MODIFIED:20190125T080550Z
UID:1693-1548696600-1548703800@www.oulunuinti.fi
SUMMARY:Kilpauintiryhmien vanhempien info!
DESCRIPTION:Maanantaina 28.1.2019 klo 17.30 alkaen pidetään Laanilan koululla infotilaisuus kaikille Oulun Uinnin kilparyhmäläisille. Infoa kevään toiminnasta ja kisoista\, paikalla myös Pohjois-Pohjanmaan Liikunnasta seurakehittäjä Marko Keskitalo\, puhumassa vanhempien ja seuran yhteistyöstä tukemassa lasten uintiharrastusta. Tervetuloa.
URL:https://www.oulunuinti.fi/tapahtuma/kilpauintiryhmien-vanhempien-info/
LOCATION:Laanilan koulu\, Hintantie 66\, Oulu\, 90650
ATTACH;FMTTYPE=image/png:https://www.oulunuinti.fi/wp-content/uploads/huippu_uinti_rgb_72dpi.png
END:VEVENT
BEGIN:VEVENT
DTSTART;TZID=Europe/Moscow:20190105T153000
DTEND;TZID=Europe/Moscow:20190106T210000
DTSTAMP:20260422T150447
CREATED:20181128T100318Z
LAST-MODIFIED:20181128T100333Z
UID:1579-1546702200-1546808400@www.oulunuinti.fi
SUMMARY:Kevätkausi 2019 alkaa!
DESCRIPTION:Kevätkauden 2019 perheuintivuorot alkavat lauantaina 5.1.2019 klo 15.30 ja sunnuntaina 6.1.2019 klo 18.00.
URL:https://www.oulunuinti.fi/tapahtuma/kevatkausi-2019-alkaa/
LOCATION:Oulun uimahalli
CATEGORIES:Tapahtumat Oulun uimahallissa
ATTACH;FMTTYPE=image/png:https://www.oulunuinti.fi/wp-content/uploads/Tähtiseura-3.png
END:VEVENT
BEGIN:VEVENT
DTSTART;TZID=Europe/Moscow:20181222T153000
DTEND;TZID=Europe/Moscow:20181222T180000
DTSTAMP:20260422T150447
CREATED:20181121T075844Z
LAST-MODIFIED:20181121T080606Z
UID:1570-1545492600-1545501600@www.oulunuinti.fi
SUMMARY:Syyskauden päättäjäiset!
DESCRIPTION:Lauantaina 22.12.2018 vietetään Oulun Uinnin uimakauden päättäjäisiä Oulun Uimahallilla perhetuintivuorolla kello 15.30-18.00! Uimarit liikkuvat hallissa itsenäisesti\, tarvittaessa vanhempien saattamana. Altaassa on Wibit\, vesijuoksumatto ja SUP-laudat\, Hyppytorni on auki ja tottakai monitoimialtaalla on Vesi-Disco! Ylhäällä kahvion perällä on jaossa diplomi ja seuran heijastin klo 16.00-18.30. Tervetuloa!
URL:https://www.oulunuinti.fi/tapahtuma/syyskauden-paattaajiset/
LOCATION:Oulun uimahalli
CATEGORIES:Tapahtumat Oulun uimahallissa
ATTACH;FMTTYPE=image/jpeg:https://www.oulunuinti.fi/wp-content/uploads/suomi100.jpg
END:VEVENT
BEGIN:VEVENT
DTSTART;TZID=Europe/Moscow:20181216T183000
DTEND;TZID=Europe/Moscow:20181216T200000
DTSTAMP:20260422T150447
CREATED:20181126T123327Z
LAST-MODIFIED:20181126T123349Z
UID:1576-1544985000-1544990400@www.oulunuinti.fi
SUMMARY:Oulun Uinnin sääntömääräinen vuosikokous!
DESCRIPTION:Sunnuntaina 16.12.2018 klo pidetään Oulun Uinnin sääntömääräinen vuosikokous Oulun Uimahallilla seuran liikuntasalissa. \nKokouksessa käsitellään sääntöjen määräämät asiat\, tässä linkki seuran sääntöihin \nKaikki seuran jäsenet ovat tervetulleita kokoukseen.
URL:https://www.oulunuinti.fi/tapahtuma/oulun-uinnin-saantomaarainen-vuosikokous/
LOCATION:Oulun uimahalli
CATEGORIES:Tapahtumat Oulun uimahallissa
END:VEVENT
BEGIN:VEVENT
DTSTART;TZID=Europe/Moscow:20181207T080000
DTEND;TZID=Europe/Moscow:20181209T190000
DTSTAMP:20260422T150447
CREATED:20181104T144909Z
LAST-MODIFIED:20181104T144909Z
UID:1540-1544169600-1544382000@www.oulunuinti.fi
SUMMARY:Pohjoismaiden Mestaruuskilpailut
DESCRIPTION:Oulun Uinti järjestää yhdessä Suomen Uimaliiton kanssa Pohjoismaiden Mestaruuskilpailut Oulussa Oulun Uimahallissa 7.-9.12.2018
URL:https://www.oulunuinti.fi/tapahtuma/pohjoismaiden-mestaruuskilpailut/
LOCATION:Oulun uimahalli
CATEGORIES:Kilpauinti,Tapahtumat Oulun uimahallissa
ATTACH;FMTTYPE=image/png:https://www.oulunuinti.fi/wp-content/uploads/Tähtiseura-3.png
END:VEVENT
BEGIN:VEVENT
DTSTART;TZID=Europe/Moscow:20181206T093000
DTEND;TZID=Europe/Moscow:20181206T170000
DTSTAMP:20260422T150447
CREATED:20180830T072312Z
LAST-MODIFIED:20180830T072312Z
UID:1298-1544088600-1544115600@www.oulunuinti.fi
SUMMARY:Joulukuunkisat
DESCRIPTION:Oulun Uinti järjestää perinteiset Joulukuunkisat 50m radalla Itsenäisyyspäivänä torstaina 6.12.2018! \nTässä linkki kutsuun.
URL:https://www.oulunuinti.fi/tapahtuma/joulukuunkisat-2/
LOCATION:Oulun uimahalli
CATEGORIES:Kilpauinti,Tapahtumat Oulun uimahallissa
ATTACH;FMTTYPE=image/jpeg:https://www.oulunuinti.fi/wp-content/uploads/DSC07752.jpg
END:VEVENT
BEGIN:VEVENT
DTSTART;TZID=Europe/Moscow:20181120T171500
DTEND;TZID=Europe/Moscow:20181120T181500
DTSTAMP:20260422T150447
CREATED:20181018T071227Z
LAST-MODIFIED:20181101T104317Z
UID:1503-1542734100-1542737700@www.oulunuinti.fi
SUMMARY:"Opi Uimaan Takuulla" -kurssi alkaa!
DESCRIPTION:“Opi Uimaan Takuulla” 10 kerran kurssi 20.11.-19.12. tiistai ja keskiviikko klo 17.30-18.15 Oulun Uimahallin opetusallas. Kokoontuminen aulassa klo 17.15. Ilmoittautuminen TÄSTÄ LINKISTÄ 
URL:https://www.oulunuinti.fi/tapahtuma/opi-uimaan-takuulla-kurssi-alkaa-2/
LOCATION:Oulun uimahalli
CATEGORIES:Tapahtumat Oulun uimahallissa
END:VEVENT
BEGIN:VEVENT
DTSTART;TZID=Europe/Moscow:20181117T153000
DTEND;TZID=Europe/Moscow:20181117T170000
DTSTAMP:20260422T150447
CREATED:20180824T091148Z
LAST-MODIFIED:20180824T091148Z
UID:1258-1542468600-1542474000@www.oulunuinti.fi
SUMMARY:OuluCup 4
DESCRIPTION:OuluCup 4 uidaan lauantaina 17.11.2018 klo 15.30 alkaen verryttelyllä ja klo 16.00 kisalla. \nTäysi lajiohjelma\, sähköinen ajanotto ja ilmoittautuminen Octoon viimeistään tiistaina 13.11.2018.
URL:https://www.oulunuinti.fi/tapahtuma/oulucup-4/
LOCATION:Oulun uimahalli
CATEGORIES:Kilpauinti,Tapahtumat Oulun uimahallissa
END:VEVENT
BEGIN:VEVENT
DTSTART;TZID=Europe/Moscow:20181108T180000
DTEND;TZID=Europe/Moscow:20181108T200000
DTSTAMP:20260422T150447
CREATED:20181104T144527Z
LAST-MODIFIED:20181104T144527Z
UID:1538-1541700000-1541707200@www.oulunuinti.fi
SUMMARY:Hallituksen kokous
DESCRIPTION:Oulun Uinnin hallituksen kokous.
URL:https://www.oulunuinti.fi/tapahtuma/hallituksen-kokous-3/
LOCATION:Oulun uimahalli
CATEGORIES:Tapahtumat Oulun uimahallissa
END:VEVENT
BEGIN:VEVENT
DTSTART;TZID=Europe/Moscow:20181102T180000
DTEND;TZID=Europe/Moscow:20181104T190000
DTSTAMP:20260422T150447
CREATED:20180923T170628Z
LAST-MODIFIED:20181031T222146Z
UID:1392-1541181600-1541358000@www.oulunuinti.fi
SUMMARY:IKM-Aluekarsinnat Oulussa yhteistyössä OU\, OuLo\, HaHe\, KemPy
DESCRIPTION:Lyhyen radan ikäkausimestaruusuinnit\nAluekilpailut 2.–4.11.2018 Oulun Raksilassa\nIKM-aluekarsintojen toimitsijailmoittautuminen tässä \nToimitsija info \nToimitsijapaidat ovat näissä kaikilla seuroilla omat. Eli jokainen toimitsija pukeutuu oman seuransa toimitsijapaitoihin. Paitojen jakaminen tapahtuu jokaisen seuran omalla tavalla ja ylimääräisiä paitoja löytyy yläkerrasta huoltoporukalta kahvion tiloista.Tällä kertaa kahviona toimii hallihenkilökunnan kahvio (missä normaalisti syödään) \nOulun uinti pukeutuu valkoisiin paitoihin. (samat kuin ruskauinneissa) \nToimitsijahuolto on tällä kertaa hallihenkilökunnan kahviossa. (Kahvion perältä kuntosalia kohden\, lasiovista sisään ja oikealle). Jaksojen alussa ja tauoilla on tarjolla toimitsijoille kahvia\, leipää ja hedelmiä.  (tarjolla on myös gluteenitonta leipää) \nJaksot ovat lyhyet\, joten tällä kertaa ei ole ruokaa eikä toimitsijoiden lapsille ole ruokailua erikseen järjestetty\, joten huomioittehan tämän viikonlopun kisoissa. \nPerjantai \nPe rakennus alkaa klo 15:00 \nKisakanslia/Aula paikalle klo 15.30-20.00 \nPe verryttely alkaa klo 16.30 \nToimitsijapalaveri alkaa klo 17.15 kaupungin liikuntasalissa \nKisat alkavat klo 18.00-20.06 Tauko 19.45-19.55 \nPalkinnot jakaa Konsta Kallinen OuLo \nLa aamu \nKisakanslia/Aula paikalle klo 08.00-12.30 \nverryttely alkaa klo 08.30 \ntoimitsijapalaveri klo 09.15 kaupungin liikuntasalissa \nKisat klo 10.00-12.44 Tauot klo 10.50-11.00 ja klo 12.28-12.38 \nPalkinnot jakaa Haukiputaan heitto \nLa ilta \nkisakanslia/aula paikalle klo 14.45-20.00 \nverryttely klo 15.30 \ntoimitsijapalaveri klo 16.15 kaupungin liikuntasalissa \nKisat klo 17.00-19.16 tauot klo 17.32-17.42 ja 18.48-18.58 \nPalkinnot jakaa Kempeleen pyrintö \nSu aamu \nkisakanslia/aula paikalle klo 08.00-12.30 \nverryttely klo 08.30 \ntoimitsijapalaveri klo 09.15 kaupungin liikuntasalissa \nKisat klo 10.00-12.52 tauot klo 10.47-10.57 ja klo 12.36-12.46 \nPalkinnot jakaa Oulun Lohet \nSu ilta \nkisakanslia/aula paikalle klo 14.45-17.40 \nverryttely klo 14.30 \ntoimitsijapalaveri klo 15.15 kaupungin liikuntasalissa \nKisat klo 16.00-18.15 tauot klo 16.28-16.38 ja 17.48-17.58 \nPalkinnot  jakaa Oulun Uinti Reetta Kanervo ja Miro Vasko \nTulostan toimitsijalistan kahvioon\, käykää raksimassa nimi\, kun olette paikalla\, niin tiedetään ketkä on jo hallilla. Erikoisuutta näissä kisoissa\, uidaan ilman ylilähtöjä. Eli uimarit nousevat altaasta\, ennen kuin seuraavat lähetetään uimaan. Huomioidaan\, että kisakäyttöön ei ole varattu kuntoallasta\, joten on pidettävä huoli\, että uimarit eivät verryttele siellä. Verryttelyyn on varattu radat 2-5 matalasta päästä. \nPuretaan porukalla sunnuntaina kisat ja päästään kaikki ajoissa kotiin hengähtään ennen uutta viikkoa. \nKiitos jo kaikille etukäteen! \nhttps://www.livetiming.fi/results.php?cid=4121 \nhttps://www.livetiming.fi/file_archive/4121/Arvioitu_ohjelma_perjantai_1.pdf \nhttps://www.livetiming.fi/file_archive/4121/Arvioitu_ohjelma_lauantaiaamu_1.pdf \nhttps://www.livetiming.fi/file_archive/4121/Arvioitu_ohjelma_lauantai_ilta.pdf \n https://www.livetiming.fi/file_archive/4121/Arvioitu_ohjelma_sunnuntaiaamu.pdf \nhttps://www.livetiming.fi/file_archive/4121/Arvioitu_ohjelma_sunnuntai_ilta.pdf
URL:https://www.oulunuinti.fi/tapahtuma/ikm-aluekarsinnat-oulussa-yhteistyossa-ou-oulo-hahe-kempy/
LOCATION:Oulun uimahalli
CATEGORIES:Kilpauinti,Tapahtumat Oulun uimahallissa
END:VEVENT
BEGIN:VEVENT
DTSTART;TZID=Europe/Moscow:20181030T163000
DTEND;TZID=Europe/Moscow:20181030T173000
DTSTAMP:20260422T150447
CREATED:20181018T071019Z
LAST-MODIFIED:20181101T104401Z
UID:1500-1540917000-1540920600@www.oulunuinti.fi
SUMMARY:"Opi Uimaan Takuulla" -kurssi alkaa!
DESCRIPTION:Seuraava “Opi Uimaan Takuulla” 10 kerran kurssi  30.10.-28.11. tiistai ja keskiviikko klo 16.45-17.30 Oulun Uimahallin opetusallas. Kokoontuminen aulassa klo 16.30. Ilmoittautuminen TÄSTÄ LINKISTÄ
URL:https://www.oulunuinti.fi/tapahtuma/opi-uimaan-takuulla-kurssi-alkaa/
LOCATION:Oulun uimahalli
CATEGORIES:Tapahtumat Oulun uimahallissa
ATTACH;FMTTYPE=image/png:https://www.oulunuinti.fi/wp-content/uploads/lapset_ja_nuoret_uinti_rgb_72dpi.png
END:VEVENT
BEGIN:VEVENT
DTSTART;TZID=Europe/Moscow:20181027T153000
DTEND;TZID=Europe/Moscow:20181027T170000
DTSTAMP:20260422T150447
CREATED:20180824T091044Z
LAST-MODIFIED:20180824T091044Z
UID:1256-1540654200-1540659600@www.oulunuinti.fi
SUMMARY:OuluCup 3
DESCRIPTION:OuluCup 3 uidaan lauantaina 27.10.2018 klo 15.30 alkaen verryttelyllä ja klo 16.00 kisalla. \nTäysi lajiohjelma\, sähköinen ajanotto ja ilmoittautuminen Octoon viimeistään tiistaina 23.10.2018.
URL:https://www.oulunuinti.fi/tapahtuma/oulucup-3/
LOCATION:Oulun uimahalli
CATEGORIES:Kilpauinti,Tapahtumat Oulun uimahallissa
END:VEVENT
BEGIN:VEVENT
DTSTART;TZID=Europe/Moscow:20181015T180000
DTEND;TZID=Europe/Moscow:20181015T200000
DTSTAMP:20260422T150447
CREATED:20180912T142220Z
LAST-MODIFIED:20180912T142220Z
UID:1340-1539626400-1539633600@www.oulunuinti.fi
SUMMARY:Hallituksen kokous
DESCRIPTION:Oulun Uinnin hallituksen kokous.
URL:https://www.oulunuinti.fi/tapahtuma/hallituksen-kokous-2/
LOCATION:Oulun uimahalli
CATEGORIES:Tapahtumat Oulun uimahallissa
END:VEVENT
BEGIN:VEVENT
DTSTART;TZID=Europe/Moscow:20181013T090000
DTEND;TZID=Europe/Moscow:20181013T180000
DTSTAMP:20260422T150447
CREATED:20180905T124602Z
LAST-MODIFIED:20180905T125632Z
UID:1321-1539421200-1539453600@www.oulunuinti.fi
SUMMARY:Toimitsijakoulutus I ja II Oulussa!
DESCRIPTION:Oulun Uinti järjestää yhdessä Oulun Lohien kanssa Suomen Uimaliiton toimitsijakoulutukset I ja II Oulussa 13.10.2018. Kouluttajana toimii Krister Fogelberg. \nToimitsijakoulutus II ns käännöstarkastajakoulutus on klo 9.00-15.00 Oulun Uimahallissa OU-salissa. Ilmoittautuminen tästä \nToimitsijakoulutus I ns kilpailujohtajakoulutus on klo 12.00-18.00 Oulun Uimahallissa OU-salissa. Ilmoittautuminen tästä
URL:https://www.oulunuinti.fi/tapahtuma/toimitsijakoulutus-i-ja-ii-oulussa/
LOCATION:Oulun uimahalli
CATEGORIES:Tapahtumat Oulun uimahallissa
END:VEVENT
BEGIN:VEVENT
DTSTART;TZID=Europe/Moscow:20181010T170000
DTEND;TZID=Europe/Moscow:20181010T200000
DTSTAMP:20260422T150447
CREATED:20181009T084059Z
LAST-MODIFIED:20181009T084059Z
UID:1420-1539190800-1539201600@www.oulunuinti.fi
SUMMARY:Uimaliiton aluefoorum
DESCRIPTION:Ohjelmassa: \nKahvit + yhteinen aloitus\, jonka jälkeen jakaannutaan kahteen osioon: Seuran johto + muut seura-aktiivit /  valmentajat ja ohjaajat \nSeuran johto: Seuran toimintakulttuuri ja toimintaympäristö \n\nMiten seura voi parhaalla mahdollisella tavalla tukea valmentajaa ja ohjaajaa toiminnassaan?\nMiten seuran toiminta-ajatus ja tavoitteet ohjaavat toimintaa?\n\nValmentajat ja ohjaajat: Lajin vaatimusanalyysi (uinti) \n\nMistä koostuu laadukas kilpailusuoritus?\n\n\n50m – 100m\n200m – 400m\n800m – 1 500m\n\n\nKilpailusuorituksen startit ja käännökset\nUimarin riittävä liikkuvuus\n\nAjankohtaiset asiat\, yhteinen lopetus
URL:https://www.oulunuinti.fi/tapahtuma/uimaliiton-aluefoorum/
CATEGORIES:Tapahtumat muualla
ATTACH;FMTTYPE=image/png:https://www.oulunuinti.fi/wp-content/uploads/Tähtiseura-3.png
END:VEVENT
BEGIN:VEVENT
DTSTART;TZID=Europe/Moscow:20181006T080000
DTEND;TZID=Europe/Moscow:20181007T153000
DTSTAMP:20260422T150447
CREATED:20180820T083838Z
LAST-MODIFIED:20180820T083838Z
UID:1245-1538812800-1538926200@www.oulunuinti.fi
SUMMARY:Ruskauinnit!
DESCRIPTION:Perinteiset syyskauden kisat Ruskauinnit uidaan Oulun Uimahallissa 6.-7.10.2018. \nTässä Uimaliiton kisakutsuun.
URL:https://www.oulunuinti.fi/tapahtuma/ruskauinnit-2/
LOCATION:Oulun uimahalli
CATEGORIES:Tapahtumat Oulun uimahallissa
ATTACH;FMTTYPE=image/jpeg:https://www.oulunuinti.fi/wp-content/uploads/IMG_8972.jpg
END:VEVENT
BEGIN:VEVENT
DTSTART;TZID=Europe/Moscow:20180929T153000
DTEND;TZID=Europe/Moscow:20180929T170000
DTSTAMP:20260422T150447
CREATED:20180824T090723Z
LAST-MODIFIED:20180824T090723Z
UID:1254-1538235000-1538240400@www.oulunuinti.fi
SUMMARY:OuluCup 2
DESCRIPTION:OuluCup 2 uidaan lauantaina 29.9.2018 klo 15.30 alkaen verryttelyllä ja klo 16.00 kisalla. \nTäysi lajiohjelma\, sähköinen ajanotto ja ilmoittautuminen Octoon viimeistään tiistaina 25.9.2018.
URL:https://www.oulunuinti.fi/tapahtuma/oulucup-2/
LOCATION:Oulun uimahalli
CATEGORIES:Kilpauinti,Tapahtumat Oulun uimahallissa
END:VEVENT
BEGIN:VEVENT
DTSTART;TZID=Europe/Moscow:20180912T170000
DTEND;TZID=Europe/Moscow:20180912T210000
DTSTAMP:20260422T150447
CREATED:20180829T105528Z
LAST-MODIFIED:20180829T105607Z
UID:1291-1536771600-1536786000@www.oulunuinti.fi
SUMMARY:Oulun Uinnin auditointi
DESCRIPTION:Suomen Uimaliitto ja Olympiakomitea auditoivat Oulun Uinnin lapsi- ja nuorisotoiminnan laadun sekä aikuistoiminnan laadun osana Tähtiseuraohjelmaa.
URL:https://www.oulunuinti.fi/tapahtuma/oulun-uinnin-auditointi/
LOCATION:Oulun uimahalli
CATEGORIES:Tapahtumat Oulun uimahallissa
ATTACH;FMTTYPE=image/jpeg:https://www.oulunuinti.fi/wp-content/uploads/Tähtiseura.jpg
END:VEVENT
END:VCALENDAR