BEGIN:VCALENDAR
VERSION:2.0
PRODID:-//Oulun Uinti - ECPv6.15.20//NONSGML v1.0//EN
CALSCALE:GREGORIAN
METHOD:PUBLISH
X-WR-CALNAME:Oulun Uinti
X-ORIGINAL-URL:https://www.oulunuinti.fi
X-WR-CALDESC:Tapahtumat Oulun Uinti
REFRESH-INTERVAL;VALUE=DURATION:PT1H
X-Robots-Tag:noindex
X-PUBLISHED-TTL:PT1H
BEGIN:VTIMEZONE
TZID:Europe/Moscow
BEGIN:STANDARD
TZOFFSETFROM:+0300
TZOFFSETTO:+0300
TZNAME:MSK
DTSTART:20160101T000000
END:STANDARD
END:VTIMEZONE
BEGIN:VTIMEZONE
TZID:UTC
BEGIN:STANDARD
TZOFFSETFROM:+0000
TZOFFSETTO:+0000
TZNAME:UTC
DTSTART:20160101T000000
END:STANDARD
END:VTIMEZONE
BEGIN:VEVENT
DTSTART;TZID=Europe/Moscow:20180603T180000
DTEND;TZID=Europe/Moscow:20180809T233000
DTSTAMP:20260422T150550
CREATED:20180603T151310Z
LAST-MODIFIED:20180603T151448Z
UID:1134-1528048800-1533857400@www.oulunuinti.fi
SUMMARY:ILMOITTAUTUMINEN SYKSYN 2018 UIMAKOULUIHIN
DESCRIPTION:Ilmoittautuminen syksyn 2018 ryhmiin on avattu! Linkki ilmoittautumissivulle TÄSSÄ
URL:https://www.oulunuinti.fi/tapahtuma/ilmoittautuminen-syksy-2018-uimakouluihin/
LOCATION:Oulun uimahalli
CATEGORIES:Tapahtumat Oulun uimahallissa,Uimakoulut
ATTACH;FMTTYPE=image/jpeg:https://www.oulunuinti.fi/wp-content/uploads/slider2.jpg
END:VEVENT
BEGIN:VEVENT
DTSTART;TZID=Europe/Moscow:20180530T190000
DTEND;TZID=Europe/Moscow:20180530T200000
DTSTAMP:20260422T150550
CREATED:20180509T072905Z
LAST-MODIFIED:20180529T080441Z
UID:1077-1527706800-1527710400@www.oulunuinti.fi
SUMMARY:OULUN UINNIN KEVÄTKOKOUS
DESCRIPTION:Oulun Uinnin sääntömääräinen kevätkokous pidetään keskiviikkona 30.5.2018 kello 19.00 alkaen Oulun Uimahallissa seuran neuvotteluhuoneessa. Kaikki seuran jäsenet ovat tervetulleita\, kahvitarjoilu.
URL:https://www.oulunuinti.fi/tapahtuma/oulun-uinnin-kevatkokous-2/
LOCATION:Oulun uimahalli
CATEGORIES:Tapahtumat Oulun uimahallissa
END:VEVENT
BEGIN:VEVENT
DTSTART;TZID=Europe/Moscow:20180519T153000
DTEND;TZID=Europe/Moscow:20180519T180000
DTSTAMP:20260422T150550
CREATED:20180221T101854Z
LAST-MODIFIED:20180221T101854Z
UID:996-1526743800-1526752800@www.oulunuinti.fi
SUMMARY:OuluCup 19.5.2018 klo 15.30
DESCRIPTION:OuluCup on seuran sisäinen uintikilpailu. Verryttely alkaa klo 15.30 ja kisa klo 16.00. Ilmoittautuminen viimeistään tiistaina 15.5.2018 mennessä Octoon ja lisenssittömät suoraan valmentajalle.
URL:https://www.oulunuinti.fi/tapahtuma/oulucup-19-5-2018-klo-15-30/
LOCATION:Oulun uimahalli
CATEGORIES:Kilpauinti,Tapahtumat Oulun uimahallissa
END:VEVENT
BEGIN:VEVENT
DTSTART;TZID=Europe/Moscow:20180502T164500
DTEND;TZID=Europe/Moscow:20180530T181500
DTSTAMP:20260422T150550
CREATED:20180416T084408Z
LAST-MODIFIED:20180416T084436Z
UID:1027-1525279500-1527704100@www.oulunuinti.fi
SUMMARY:UIMATAITO KESÄKSI TAKUULLA UIMAKOULUT
DESCRIPTION:Oulun Uinnint UIMATAITO KESÄKSI TAKUULLA UIMAKOULUT tiistai ja keskiviikkoisin 2.-30.5. nyt myynnissä! Lisätietoa TÄSTÄ
URL:https://www.oulunuinti.fi/tapahtuma/uimataito-kesaksi-takuulla-uimakoulut/
LOCATION:Oulun uimahalli
CATEGORIES:Tapahtumat Oulun uimahallissa,Uimakoulut
ATTACH;FMTTYPE=image/jpeg:https://www.oulunuinti.fi/wp-content/uploads/IMG_8989.jpg
END:VEVENT
BEGIN:VEVENT
DTSTART;TZID=Europe/Moscow:20180421T153000
DTEND;TZID=Europe/Moscow:20180421T180000
DTSTAMP:20260422T150550
CREATED:20180221T101746Z
LAST-MODIFIED:20180419T090336Z
UID:994-1524324600-1524333600@www.oulunuinti.fi
SUMMARY:OuluCup 21.4.2018 klo 15.30
DESCRIPTION:OuluCup on seuran sisäinen uintikilpailu. Verryttely alkaa klo 15.30 ja kisa klo 16.00. Ilmoittautuminen viimeistään tiistaina 17.4.2018 mennessä Octoon ja lisenssittömät suoraan valmentajalle. \nLisäksi  Rollo-\, Sekaristi- ja Kiituri-uimareilla on mahdollisuus uida 25m Oulun Uimahallissa ajalla ison altaan syvässä päässä radoilla 1-4. Ajanottouinnit alkavat klo 16.15 eli kaikki halukkaat paikalle klo 15.30 verryttelemään. Kaikki halukkaat ovat tervetulleita uimaan 25m ajalla. Harjoitukset ovat normaalisti lauantaina ja sunnuntaina\, tämä 25m uinti mahdollisuus on extraa. Tämä uinti ei vaadi lisenssiä eli kaikki voivat ja saavat tulla.
URL:https://www.oulunuinti.fi/tapahtuma/oulucup-21-4-2018-klo-15-30/
LOCATION:Oulun uimahalli
CATEGORIES:Kilpauinti,Tapahtumat Oulun uimahallissa
ATTACH;FMTTYPE=image/jpeg:https://www.oulunuinti.fi/wp-content/uploads/IMG_8972.jpg
END:VEVENT
BEGIN:VEVENT
DTSTART;TZID=Europe/Moscow:20180407T080000
DTEND;TZID=Europe/Moscow:20180408T170000
DTSTAMP:20260422T150550
CREATED:20180115T125815Z
LAST-MODIFIED:20180115T130011Z
UID:964-1523088000-1523206800@www.oulunuinti.fi
SUMMARY:Nuorisouinnit
DESCRIPTION:Oulun Uinti järjestään lauantaina 7.-8.4.2018 Nuorisouinnit. Tässä on linkki kutsuun: kutsu \nToimitsijailmoittuminen Google Sheetsiin\, linkki tässä: toimitsijailmoittautuminen
URL:https://www.oulunuinti.fi/tapahtuma/nuoriso-uinnit/
LOCATION:Oulun uimahalli
CATEGORIES:Kilpauinti
ATTACH;FMTTYPE=image/jpeg:https://www.oulunuinti.fi/wp-content/uploads/GP1.jpg
END:VEVENT
BEGIN:VEVENT
DTSTART;TZID=Europe/Moscow:20180324T153000
DTEND;TZID=Europe/Moscow:20180324T180000
DTSTAMP:20260422T150550
CREATED:20180221T101601Z
LAST-MODIFIED:20180221T101601Z
UID:992-1521905400-1521914400@www.oulunuinti.fi
SUMMARY:OuluCup 24.3.2018 klo 15.30
DESCRIPTION:OuluCup on seuran sisäinen uintikilpailu. Verryttely alkaa klo 15.30 ja kisa klo 16.00. Ilmoittautuminen viimeistään tiistaina 20.3.2018 mennessä Octoon ja lisenssittömät suoraan valmentajalle.
URL:https://www.oulunuinti.fi/tapahtuma/oulucup-24-3-2018-klo-15-30/
LOCATION:Oulun uimahalli
CATEGORIES:Kilpauinti,Tapahtumat Oulun uimahallissa
ATTACH;FMTTYPE=image/jpeg:https://www.oulunuinti.fi/wp-content/uploads/IMG_8973.jpg
END:VEVENT
BEGIN:VEVENT
DTSTART;TZID=Europe/Moscow:20180303T153000
DTEND;TZID=Europe/Moscow:20180304T200000
DTSTAMP:20260422T150550
CREATED:20180219T124656Z
LAST-MODIFIED:20180219T124656Z
UID:989-1520091000-1520193600@www.oulunuinti.fi
SUMMARY:Monipuolisuuspäivä
DESCRIPTION:Uimakoululaisten monipuolisuuspäivä\, altaassa mm. Wibit\, juoksumatto ja hyppytornit ovat auki. \nLauantaina 3.3. klo 15.30-18.00 ja sunnuntaina 4.3. klo 18.00-20.00.
URL:https://www.oulunuinti.fi/tapahtuma/monipuolisuuspaiva-3/
LOCATION:Oulun uimahalli
CATEGORIES:Tapahtumat Oulun uimahallissa,Uimakoulut
ATTACH;FMTTYPE=image/jpeg:https://www.oulunuinti.fi/wp-content/uploads/Perheuintivuoro-e1499181503786.jpg
END:VEVENT
BEGIN:VEVENT
DTSTART;TZID=Europe/Moscow:20180224T150000
DTEND;TZID=Europe/Moscow:20180225T170000
DTSTAMP:20260422T150550
CREATED:20180115T115543Z
LAST-MODIFIED:20180216T115045Z
UID:961-1519484400-1519578000@www.oulunuinti.fi
SUMMARY:Oulun Uinnit
DESCRIPTION:Oulun Uinti järjestää Oulun Uinnit 24.-25.2.2018 Oulun Uimahallissa. Linkki kutsuun on tässä: kutsu  \nOsallistujalistat ja alustavat aikataulut on julkistettu Livetimingissä  \nJälki-ilmoittautuminen on auki Octossa. \nToimitsijailmoittuminen Google Sheetsiin\, linkki tässä: toimitsijailmoittautuminen
URL:https://www.oulunuinti.fi/tapahtuma/oulun-uinnit/
LOCATION:Oulun uimahalli
CATEGORIES:Kilpauinti
END:VEVENT
BEGIN:VEVENT
DTSTART;TZID=Europe/Moscow:20180127T150000
DTEND;TZID=Europe/Moscow:20180127T183000
DTSTAMP:20260422T150550
CREATED:20180115T114155Z
LAST-MODIFIED:20180124T111712Z
UID:959-1517065200-1517077800@www.oulunuinti.fi
SUMMARY:Masters Talviuinnit
DESCRIPTION:HUOM!!! Kisa alkaa klo 16.00 ja altaille pääsee klo 15.15! \n  \nOulun Uinti järjestään lauantaina 27.1.2018 Masters Talviuinnit. Tässä on linkki kutsuun: kutsu \nToimitsijailmoittuminen Google Sheetsiin\, linkki tässä: toimitsijailmoittautuminen  \nKilpailun aikataulu ja Lähtölista Laji 1 – 25
URL:https://www.oulunuinti.fi/tapahtuma/masters-talviuinnit/
LOCATION:Oulun uimahalli
CATEGORIES:Kilpauinti
ATTACH;FMTTYPE=image/jpeg:https://www.oulunuinti.fi/wp-content/uploads/20130426_195000.jpg
END:VEVENT
BEGIN:VEVENT
DTSTART;TZID=Europe/Moscow:20180106T153000
DTEND;TZID=Europe/Moscow:20180107T210000
DTSTAMP:20260422T150550
CREATED:20171221T115524Z
LAST-MODIFIED:20171221T115524Z
UID:953-1515252600-1515358800@www.oulunuinti.fi
SUMMARY:Kevätkausi 2018 alkaa
DESCRIPTION:Kevätkausi 2018 ja perheuintivuorot alkavat lauantaina 6.1.2018 klo 15.30 ja sunnuntaina 7.1.2018 klo 18.00. Vanhat jatkavat samoissa ryhmissä\, mahdollisista muutoksista ilmoitetaan erikseen. Uusille uimakoululaisille tulee infoa uusista ryhmäpaikoista tietoa pian.
URL:https://www.oulunuinti.fi/tapahtuma/kevatkausi-2018-alkaa/
CATEGORIES:Tapahtumat Oulun uimahallissa,Uimakoulut
END:VEVENT
BEGIN:VEVENT
DTSTART;TZID=Europe/Moscow:20171216T153000
DTEND;TZID=Europe/Moscow:20171216T180000
DTSTAMP:20260422T150550
CREATED:20170919T102458Z
LAST-MODIFIED:20171212T154816Z
UID:878-1513438200-1513447200@www.oulunuinti.fi
SUMMARY:Syyskauden päättäjäiset
DESCRIPTION:Syyskauden 2017 päättäjäisiä vietetään  lauantaina 16.12. klo 15.30 alkaen. Tapahtuma on lauantaina kaikille uimakoululaisille\, myös sunnuntain ryhmät tulevat lauantaina. Normaali monipuolisuuspäivätoiminnan lisäksi on uimakoululaisille (ES-\,Kiiturit- ja Sekaristiryhmille) diplomien ja kaikille heijastimien  jako. Normaali uimakoulut korvataan monipuolisella omatoimisella tekemisellä eri toimintapisteissä: Wibit-vesitemppuradalla\, vesijuoksumatolla\, uimahypyillä yms. Lapset käyvät omatoimisesti eri pisteissä\, pienemmät lapset vanhempien kanssa. \nKaikki uimakoulut ja -ryhmät\, ES-\, Kiiturit-\, Sekaristit-\, Rolloharraste- ja Uintiryhmät päättävät kautensa tuolloin. Nämä ryhmät jatkavat harjoittelua 6.-7.1.2018 viikonloppuna. Kevään ryhmiin ei ilmoittauduta erikseen\, vaan kaikki jatkavat omissa ryhmissään kevään 2018.
URL:https://www.oulunuinti.fi/tapahtuma/syyskauden-paattajaiset/
LOCATION:Oulun uimahalli
CATEGORIES:Tapahtumat Oulun uimahallissa,Uimakoulut
END:VEVENT
BEGIN:VEVENT
DTSTART;TZID=Europe/Moscow:20171210T190000
DTEND;TZID=Europe/Moscow:20171210T200000
DTSTAMP:20260422T150550
CREATED:20171204T144939Z
LAST-MODIFIED:20171204T144939Z
UID:937-1512932400-1512936000@www.oulunuinti.fi
SUMMARY:Oulun Uinnin syyskokous
DESCRIPTION:Oulun Uinnin sääntömääräinen syyskokous pidetään sunnuntaina 10.12.2017 klo 19.00 alkaen Oulun Uimahallilla seuran neuvotteluhuoneessa. Kaikki jäsenet tervetulua.
URL:https://www.oulunuinti.fi/tapahtuma/oulun-uinnin-syyskokous/
CATEGORIES:Kilpauinti,Taitouinti,Tapahtumat muualla,Tapahtumat Oulun uimahallissa,Uimahypyt,Uimakoulut
END:VEVENT
BEGIN:VEVENT
DTSTART;TZID=Europe/Moscow:20171206T093000
DTEND;TZID=Europe/Moscow:20171206T160000
DTSTAMP:20260422T150550
CREATED:20171204T183548Z
LAST-MODIFIED:20171204T183548Z
UID:941-1512552600-1512576000@www.oulunuinti.fi
SUMMARY:Itsenäisyyspäivänä EI OLE uimakouluja!
DESCRIPTION:Itsenäisyyspäivänä 6.12.2017 ei ole mitään uimakouluja! Oulun Uimahallissa uidaan Joulukuun kisat\, klo 9.30-16.00\, kaikki tervetuloa katsomaan kisoja.
URL:https://www.oulunuinti.fi/tapahtuma/itsenaisyyspaivana-ei-ole-uimakouluja/
CATEGORIES:Kilpauinti,Tapahtumat Oulun uimahallissa
ATTACH;FMTTYPE=image/jpeg:https://www.oulunuinti.fi/wp-content/uploads/Pääkuva-5-e1491917356688.jpg
END:VEVENT
BEGIN:VEVENT
DTSTART;TZID=Europe/Moscow:20171206T093000
DTEND;TZID=Europe/Moscow:20171206T160000
DTSTAMP:20260422T150550
CREATED:20170812T143813Z
LAST-MODIFIED:20171129T112412Z
UID:815-1512552600-1512576000@www.oulunuinti.fi
SUMMARY:Joulukuunkisat
DESCRIPTION:Osallistujalista ja alustava aikataulu löytyvät täältä. \nJo perinteiset pitkän radan Joulukuunkisat 50m altaalla Itsenäisyyspäivänä. Kisakutsu tässä
URL:https://www.oulunuinti.fi/tapahtuma/joulukuunkisat/
LOCATION:Oulun uimahalli
CATEGORIES:Kilpauinti,Tapahtumat Oulun uimahallissa
END:VEVENT
BEGIN:VEVENT
DTSTART;TZID=Europe/Moscow:20171202T153000
DTEND;TZID=Europe/Moscow:20171202T173000
DTSTAMP:20260422T150550
CREATED:20170919T100739Z
LAST-MODIFIED:20170919T100739Z
UID:872-1512228600-1512235800@www.oulunuinti.fi
SUMMARY:OuluCup vko 48
DESCRIPTION:OuluCup seuran sisäinen uintikilpailu. Verryttely alkaa klo 15.30 ja kisa klo 16.00. Ilmoittautuminen edellisen viikon torstaihin mennessä Octoon ja lisenssittömät suoraan valmentajalle.
URL:https://www.oulunuinti.fi/tapahtuma/oulucup-vko-48/
LOCATION:Oulun uimahalli
CATEGORIES:Kilpauinti,Tapahtumat Oulun uimahallissa
END:VEVENT
BEGIN:VEVENT
DTSTART;TZID=Europe/Moscow:20171201T080000
DTEND;TZID=Europe/Moscow:20171203T193000
DTSTAMP:20260422T150550
CREATED:20171120T113049Z
LAST-MODIFIED:20171120T113049Z
UID:929-1512115200-1512329400@www.oulunuinti.fi
SUMMARY:Ikäkausimestaruusuintien finaalit Vaasassa 1.-3.12.2017.
DESCRIPTION:Oulun Uinnilta 26 uimaria saavutti paikan Vaasassa uitaviin loppukilpailuihin\, joissa seuraltamme tullaan näkemään yli 100 starttia. Eniten finaalipaikkoja uivat Lasse Pulkkinen sekä Madeleine Hiltunen\, jotka uivat itsensä Vaasaan jopa 9 eri matkalla. Karsintojen kovin suoritus seuramme uimareista tosin nähtiin Petra Ansarannalta\, joka paranteli 400m vapaauinnin uudeksi kisaennätykseksi 4.31\,52. \nKisoja voi seurata Livetiming palvelus kautta\, tässä linkki  \nTässä linkki Uimaliiton kisasivuille. \nTsemppiä kaikille valmistautumisessa Vaasan finaaleihin!
URL:https://www.oulunuinti.fi/tapahtuma/ikakausimestaruusuintien-finaalit-vaasassa-1-3-12-2017/
CATEGORIES:Kilpauinti
ATTACH;FMTTYPE=image/jpeg:https://www.oulunuinti.fi/wp-content/uploads/IKM-TRE-K17-2.jpg
END:VEVENT
BEGIN:VEVENT
DTSTART;TZID=Europe/Moscow:20171118T080000
DTEND;TZID=Europe/Moscow:20171119T210000
DTSTAMP:20260422T150550
CREATED:20171118T100207Z
LAST-MODIFIED:20171118T100313Z
UID:922-1510992000-1511125200@www.oulunuinti.fi
SUMMARY:Perheuintivuoro on peruttu 18.-19.11.2017\, EasySwim- ja Kiituriryhmät on normaalisti!
DESCRIPTION:SM-kilpailujen takia Perheuintivuoro on peruttu 18.-19.11.2017\, mutta EASYSWIM- ja KIITURIUIMARYHMÄT ovat NORMAALISTI! Sekaristi-\, uinti- ja aikuistenryhmät on peruttu\, kuten myös kaikki Raatin ryhmät viikonloppuna 18.-19.11.2017.
URL:https://www.oulunuinti.fi/tapahtuma/perheuintivuoro-peruttu-18-19-11-2017/
CATEGORIES:Tapahtumat Oulun uimahallissa,Uimakoulut
END:VEVENT
BEGIN:VEVENT
DTSTART;TZID=Europe/Moscow:20171116T080000
DTEND;TZID=Europe/Moscow:20171119T190000
DTSTAMP:20260422T150550
CREATED:20170812T143508Z
LAST-MODIFIED:20171107T121056Z
UID:812-1510819200-1511118000@www.oulunuinti.fi
SUMMARY:Suomen mestaruuskilpailut (25m)
DESCRIPTION:Oulun Uinti järjestää yhdessä Suomen Uimaliiton Suomen mestaruuskilpailut ja nuorten Suomen mestaruuskilpailut Oulussa 16.-19.11.2017. \nLinkki Suomen Uimaliiton SM-kisasivuille tässä \nVerryttely\nSM-kilpauimareilla on mahdollisuus verryttelyyn keskiviikkona 15.11. klo 17.00-20.45 kisa-altaassa \nRuokailu\nUimahallin kahviossa maittava ja monipuolinen ruokailu mahdollisuus. Aterian hinta on 9€\, sisältää lämmin ruoka\, salaatti\, leivät ja juomat (maito\, mehu tai vesi). Ruokailut tulee varata 6.11. mennessä puhelimitse 08-378 502 tai info@nallikarioy.fi. Ruokalista  löytyy tästä  \nToimitsijaksi\nHaluatko nähdä ja kokea SM-kisat paraatipaikalta? Tule kisatoimitsijaksi\, kahden jakson toimitsijatehtävistä saat toimitsija-akreditoinnin\, jolla pääset urheilijakatsomoon muina jaksoina. Ilmoittautuminen toimitsijatehtäviin kommentoimalla Google Sheetissä haluamaasi tehtävää\, tässä linkki Google Sheetsiin.   \nPääsyliput\nSM-kisaan myydään pääsyliput\, päivälippu on 10€ ja koko kisa eli neljän päivänlippu on 20€.
URL:https://www.oulunuinti.fi/tapahtuma/suomen-mestaruuskilpailut-25m/
LOCATION:Oulun uimahalli
CATEGORIES:Kilpauinti,Tapahtumat Oulun uimahallissa
ATTACH;FMTTYPE=image/jpeg:https://www.oulunuinti.fi/wp-content/uploads/GP1.jpg
END:VEVENT
BEGIN:VEVENT
DTSTART;TZID=Europe/Moscow:20171104T153000
DTEND;TZID=Europe/Moscow:20171105T200000
DTSTAMP:20260422T150550
CREATED:20170919T101623Z
LAST-MODIFIED:20170926T103349Z
UID:876-1509809400-1509912000@www.oulunuinti.fi
SUMMARY:Monipuolisuuspäivä
DESCRIPTION:Normaali uimakoulut korvataan monipuolisella tekemisellä eri toimintapisteissä: Wibit-vesitemppuradalla\, vesijuoksumatolla\, uimahypyillä yms. Lapset käyvät ohjaajien kanssa eri toimipisteissä.
URL:https://www.oulunuinti.fi/tapahtuma/monipuolisuuspaiva-2/
LOCATION:Oulun uimahalli
CATEGORIES:Tapahtumat Oulun uimahallissa,Uimakoulut
END:VEVENT
BEGIN:VEVENT
DTSTART;TZID=Europe/Moscow:20171104T153000
DTEND;TZID=Europe/Moscow:20171104T173000
DTSTAMP:20260422T150550
CREATED:20170919T100639Z
LAST-MODIFIED:20170919T100639Z
UID:870-1509809400-1509816600@www.oulunuinti.fi
SUMMARY:OuluCup vko 44
DESCRIPTION:OuluCup seuran sisäinen uintikilpailu. Verryttely alkaa klo 15.30 ja kisa klo 16.00. Ilmoittautuminen edellisen viikon torstaihin mennessä Octoon ja lisenssittömät suoraan valmentajalle.
URL:https://www.oulunuinti.fi/tapahtuma/oulucup-vko-44/
LOCATION:Oulun uimahalli
CATEGORIES:Kilpauinti,Tapahtumat Oulun uimahallissa
END:VEVENT
BEGIN:VEVENT
DTSTART;TZID=Europe/Moscow:20171021T153000
DTEND;TZID=Europe/Moscow:20171021T173000
DTSTAMP:20260422T150550
CREATED:20170919T100538Z
LAST-MODIFIED:20170919T100538Z
UID:868-1508599800-1508607000@www.oulunuinti.fi
SUMMARY:OuluCup vko 42
DESCRIPTION:OuluCup seuran sisäinen uintikilpailu. Verryttely alkaa klo 15.30 ja kisa klo 16.00. Ilmoittautuminen edellisen viikon torstaihin mennessä Octoon ja lisenssittömät suoraan valmentajalle.
URL:https://www.oulunuinti.fi/tapahtuma/oulucup-vko-42/
LOCATION:Oulun uimahalli
CATEGORIES:Kilpauinti,Tapahtumat Oulun uimahallissa
END:VEVENT
BEGIN:VEVENT
DTSTART;TZID=Europe/Moscow:20171011T180000
DTEND;TZID=Europe/Moscow:20171011T193000
DTSTAMP:20260422T150550
CREATED:20170828T092733Z
LAST-MODIFIED:20170919T100014Z
UID:848-1507744800-1507750200@www.oulunuinti.fi
SUMMARY:Oulun Uinnin Hallituksen kokous
DESCRIPTION:Oulun Uinnin hallituksen kokous Oulun Uimahalli seuran neuvotteluhuone klo 18.00 alkaen.
URL:https://www.oulunuinti.fi/tapahtuma/oulun-uinnin-hallituksen-kokous/
LOCATION:Oulun uimahalli
END:VEVENT
BEGIN:VEVENT
DTSTART;TZID=Europe/Moscow:20171007T080000
DTEND;TZID=Europe/Moscow:20171008T160000
DTSTAMP:20260422T150550
CREATED:20170812T143121Z
LAST-MODIFIED:20170929T115816Z
UID:810-1507363200-1507478400@www.oulunuinti.fi
SUMMARY:Ruskauinnit
DESCRIPTION:Oulun Uinnin kauden 17-18 ensimmäiset kisat 7.-8.10.2017. \nRuskauintien osallistujalista on nyt julkaistu Livetiming-palvelussa\, http://livetiming.fi/program.php?cid=3529&session=3  sekä  jaksojen alustavat aikataulut http://livetiming.fi/file_archive.php?cid=3529&session=3 \nToimitsijaksi voit ilmoittautua tästä \n Uimahallin kahviossa mahdollisuus herkulliseen ruokailuun. \n Lauantaina 7.10.2017   \nLounas Makaroonilaatikkoa tai Broileripataa \nPäivällinen Lihapyörykät \nSunnuntaina 8.10.2017 \nLounas Tonnikalapastaa tai Syksyistä lihapataa \nAterian hinta on 9€ ja siihen sisältyy lämmin ruoka\, salaattia\, leivät ja juomat (maito\, vesi tai mehu) \nRuokailut tulee varata 2.10.2017 mennessä\, puhelimella 08-378502 tai sähköpostilla info@nallikarioy.fi \nKisakutsu löytyy täältä
URL:https://www.oulunuinti.fi/tapahtuma/ruskauinnit/
LOCATION:Oulun uimahalli
CATEGORIES:Kilpauinti,Tapahtumat Oulun uimahallissa
ATTACH;FMTTYPE=image/jpeg:https://www.oulunuinti.fi/wp-content/uploads/IMG_8991.jpg
END:VEVENT
BEGIN:VEVENT
DTSTART;TZID=Europe/Moscow:20170930T153000
DTEND;TZID=Europe/Moscow:20171001T200000
DTSTAMP:20260422T150550
CREATED:20170919T101525Z
LAST-MODIFIED:20170926T103421Z
UID:874-1506785400-1506888000@www.oulunuinti.fi
SUMMARY:Monipuolisuuspäivä
DESCRIPTION:Normaali uimakoulut korvataan monipuolisella tekemisellä eri toimintapisteissä: Wibit-vesitemppuradalla\, vesijuoksumatolla\, uimahypyillä yms. Lapset käyvät ohjaajien kanssa eri toimipisteissä.
URL:https://www.oulunuinti.fi/tapahtuma/monipuolisuuspaiva/
LOCATION:Oulun uimahalli
CATEGORIES:Tapahtumat Oulun uimahallissa,Uimakoulut
END:VEVENT
BEGIN:VEVENT
DTSTART;TZID=Europe/Moscow:20170923T153000
DTEND;TZID=Europe/Moscow:20170923T173000
DTSTAMP:20260422T150550
CREATED:20170919T100434Z
LAST-MODIFIED:20170919T100434Z
UID:866-1506180600-1506187800@www.oulunuinti.fi
SUMMARY:OuluCup vko 38
DESCRIPTION:OuluCup seuran sisäinen uintikilpailu. Verryttely alkaa klo 15.30 ja kisa klo 16.00. Ilmoittautuminen edellisen viikon torstaihin mennessä Octoon ja lisenssittömät suoraan valmentajalle.
URL:https://www.oulunuinti.fi/tapahtuma/oulucup-vko-38/
LOCATION:Oulun uimahalli
CATEGORIES:Kilpauinti,Tapahtumat Oulun uimahallissa
END:VEVENT
BEGIN:VEVENT
DTSTART;TZID=Europe/Moscow:20170909T080000
DTEND;TZID=Europe/Moscow:20170909T180000
DTSTAMP:20260422T150550
CREATED:20170822T104154Z
LAST-MODIFIED:20170822T104154Z
UID:821-1504944000-1504980000@www.oulunuinti.fi
SUMMARY:Uimahyppyjen POSAM
DESCRIPTION:Pohjois-Suomen aluemestaruudet
URL:https://www.oulunuinti.fi/tapahtuma/uimahyppyjen-posam/
END:VEVENT
BEGIN:VEVENT
DTSTART;TZID=Europe/Moscow:20170827T173000
DTEND;TZID=Europe/Moscow:20170827T194500
DTSTAMP:20260422T150550
CREATED:20170823T083427Z
LAST-MODIFIED:20170823T083427Z
UID:842-1503855000-1503863100@www.oulunuinti.fi
SUMMARY:Uimahyppykoulujen aloitustilaisuus
DESCRIPTION:Oulun Uinnin uimahyppykoulujen aloitustilaisuus sunnuntaina 27.8.2017. klo 17.45-19.45 \, kokoontuminen Oulun Uimahallin aulassa klo 17.30. \nEnsimmäisellä kerralla katsotaan uimahyppykoululaisehdokkaiden taitotaso ja sen jälkeen annetaan ryhmäsuositus.  Mukaan jumppavaatteet ja uima-asut. Ne joiden taitotaso ei vielä riitä uimahyppykouluun on mahdollista osallistua 10 kerran trampoliinikurssille\, missä luodaan pohja uimahyppytaidoille.
URL:https://www.oulunuinti.fi/tapahtuma/uimahyppykoulujen-aloitustilaisuus/
LOCATION:Oulun uimahalli
CATEGORIES:Uimahypyt
ATTACH;FMTTYPE=image/jpeg:https://www.oulunuinti.fi/wp-content/uploads/uimahyppy-2.jpg
END:VEVENT
BEGIN:VEVENT
DTSTART;TZID=UTC:20170812T153000
DTEND;TZID=UTC:20170813T210000
DTSTAMP:20260422T150550
CREATED:20170423T053835Z
LAST-MODIFIED:20170423T053835Z
UID:684-1502551800-1502658000@www.oulunuinti.fi
SUMMARY:Syyskausi 2017 alkaa
DESCRIPTION:Syyskauden 2017 ensimmäiset perheuintivuorot ja uimakoulujen aloitus
URL:https://www.oulunuinti.fi/tapahtuma/syyskausi-2017-alkaa/
CATEGORIES:Tapahtumat Oulun uimahallissa,Uimakoulut
END:VEVENT
BEGIN:VEVENT
DTSTART;TZID=UTC:20170731T090000
DTEND;TZID=UTC:20170809T150000
DTSTAMP:20260422T150550
CREATED:20170423T053625Z
LAST-MODIFIED:20170423T053625Z
UID:682-1501491600-1502290800@www.oulunuinti.fi
SUMMARY:Kesäleiri 2
DESCRIPTION:Leirit on suunnattu pääsääntöisesti 9-13 vuotiaille. Varusteina polkupyörä\, ulko- ja sisäliikuntavarusteet sekä uintivarusteet\, juomapullo ja eväät. \nOHJELMA: \nklo 9.00 – 9 .30 	päivä alkaa\nklo 9.30 – 11.30 	ohjelmaa\nklo 11.30 – 12.30 	eväiden syönti\nklo 12.30 – 14.30 	ohjelmaa\nklo 14.30 – 15.00 	vapaata pelailua ja leikkimistä\, päivä loppuu \nOHJELMASSA (Päiväohjelma riippuu ilmasta yms. asioista eli alla oleva ei ole päiväjärjestys leirille):  \n1.	Viestikarnevaali: leikkimielisiä viestejä ja pihapeliturnaus: jalkapallo\, norsupallo\, pesäpallo\n2.	Pyöräretki Valkeisjärvelle\, eväiden syönti\, juoksu metsässä ja uinti\n3.	10. ottelu: 60m juoksu\, 1km juoksu\, vauhditon pituus\, 5-loikka\, pallonheitto\, hyppynaru yms.\n4.	Huikia seikkailupuisto ja legopäivä: aarteenetsintä\, mallin mukaan rakentaminen\, ihmislegot\n5.	Frisbee golf ja pihakuntosali (Hiironen)\n6.	Suunnistus (Raksilan ympäristö)\n7.	Pyörällä Nallikariin\, luontoretki sekä uintia ja ensiapukoulutusta\n8.	Voimistelu (OU-Sali / piha): käsilläseisonnat\, kuperkeikat\, kärrynpyörät\, hulavanteet yms. \nTapaaminen aina Oulun Uimahallilla Oulun Uinnin liikuntasalissa\, viimeistään klo 9.20. Kulku liikuntasaliin uimahallin takaa\, josta myös nouto/lähtö viimeistään klo 15.00. Huoltajan luvalla leiriläiset voivat tulla ja lähteä leiriltä omatoimisesti.  \nUimarit tuovat omat eväät\, esimerkiksi leipää\, jugurtti\, hedelmä\, pillimehu yms. Uimareiden eväille on uimahallilla käytössä jääkaappi.  \nLeirille otetaan ilmoittautumisjärjestyksessä maksimissaan per leiri 25 lasta. Leirillä on täysi-ikäinen vastuuohjaaja sekä 2-3 kesätyösetelinuorta avustajina. Ilmoittautuminen Oulun Uinnin www.omauinti.fi sivujen kautta\, josta tulee myös lasku. Kesäleirit löytyvät 5. Rolloryhmät-valikon alta. Leirin hinta on 80€.  \nLeiriläiset ovat vakuutettuja seuran taholta leirin ajan. Päiväohjelma on alustava ja siihen voi tulla muutoksia esimerkiksi sääolosuhteiden takia. Oulun Uinti pidättää oikeudet muutoksiin ja pitää oikeuden tarvittaessa perua leirit\, esimerkiksi jos osallistujia ei tule riittävästi.
URL:https://www.oulunuinti.fi/tapahtuma/kesaleiri-2/
CATEGORIES:Tapahtumat Oulun uimahallissa
END:VEVENT
END:VCALENDAR