BEGIN:VCALENDAR
VERSION:2.0
PRODID:-//Oulun Uinti - ECPv6.15.20//NONSGML v1.0//EN
CALSCALE:GREGORIAN
METHOD:PUBLISH
X-WR-CALNAME:Oulun Uinti
X-ORIGINAL-URL:https://www.oulunuinti.fi
X-WR-CALDESC:Tapahtumat Oulun Uinti
REFRESH-INTERVAL;VALUE=DURATION:PT1H
X-Robots-Tag:noindex
X-PUBLISHED-TTL:PT1H
BEGIN:VTIMEZONE
TZID:Europe/Moscow
BEGIN:STANDARD
TZOFFSETFROM:+0300
TZOFFSETTO:+0300
TZNAME:MSK
DTSTART:20160101T000000
END:STANDARD
END:VTIMEZONE
BEGIN:VTIMEZONE
TZID:UTC
BEGIN:STANDARD
TZOFFSETFROM:+0000
TZOFFSETTO:+0000
TZNAME:UTC
DTSTART:20160101T000000
END:STANDARD
END:VTIMEZONE
BEGIN:VEVENT
DTSTART;TZID=Europe/Moscow:20171104T153000
DTEND;TZID=Europe/Moscow:20171104T173000
DTSTAMP:20260423T084717
CREATED:20170919T100639Z
LAST-MODIFIED:20170919T100639Z
UID:870-1509809400-1509816600@www.oulunuinti.fi
SUMMARY:OuluCup vko 44
DESCRIPTION:OuluCup seuran sisäinen uintikilpailu. Verryttely alkaa klo 15.30 ja kisa klo 16.00. Ilmoittautuminen edellisen viikon torstaihin mennessä Octoon ja lisenssittömät suoraan valmentajalle.
URL:https://www.oulunuinti.fi/tapahtuma/oulucup-vko-44/
LOCATION:Oulun uimahalli
CATEGORIES:Kilpauinti,Tapahtumat Oulun uimahallissa
END:VEVENT
BEGIN:VEVENT
DTSTART;TZID=Europe/Moscow:20171021T153000
DTEND;TZID=Europe/Moscow:20171021T173000
DTSTAMP:20260423T084717
CREATED:20170919T100538Z
LAST-MODIFIED:20170919T100538Z
UID:868-1508599800-1508607000@www.oulunuinti.fi
SUMMARY:OuluCup vko 42
DESCRIPTION:OuluCup seuran sisäinen uintikilpailu. Verryttely alkaa klo 15.30 ja kisa klo 16.00. Ilmoittautuminen edellisen viikon torstaihin mennessä Octoon ja lisenssittömät suoraan valmentajalle.
URL:https://www.oulunuinti.fi/tapahtuma/oulucup-vko-42/
LOCATION:Oulun uimahalli
CATEGORIES:Kilpauinti,Tapahtumat Oulun uimahallissa
END:VEVENT
BEGIN:VEVENT
DTSTART;TZID=Europe/Moscow:20171011T180000
DTEND;TZID=Europe/Moscow:20171011T193000
DTSTAMP:20260423T084717
CREATED:20170828T092733Z
LAST-MODIFIED:20170919T100014Z
UID:848-1507744800-1507750200@www.oulunuinti.fi
SUMMARY:Oulun Uinnin Hallituksen kokous
DESCRIPTION:Oulun Uinnin hallituksen kokous Oulun Uimahalli seuran neuvotteluhuone klo 18.00 alkaen.
URL:https://www.oulunuinti.fi/tapahtuma/oulun-uinnin-hallituksen-kokous/
LOCATION:Oulun uimahalli
END:VEVENT
BEGIN:VEVENT
DTSTART;TZID=Europe/Moscow:20171007T080000
DTEND;TZID=Europe/Moscow:20171008T160000
DTSTAMP:20260423T084717
CREATED:20170812T143121Z
LAST-MODIFIED:20170929T115816Z
UID:810-1507363200-1507478400@www.oulunuinti.fi
SUMMARY:Ruskauinnit
DESCRIPTION:Oulun Uinnin kauden 17-18 ensimmäiset kisat 7.-8.10.2017. \nRuskauintien osallistujalista on nyt julkaistu Livetiming-palvelussa\, http://livetiming.fi/program.php?cid=3529&session=3  sekä  jaksojen alustavat aikataulut http://livetiming.fi/file_archive.php?cid=3529&session=3 \nToimitsijaksi voit ilmoittautua tästä \n Uimahallin kahviossa mahdollisuus herkulliseen ruokailuun. \n Lauantaina 7.10.2017   \nLounas Makaroonilaatikkoa tai Broileripataa \nPäivällinen Lihapyörykät \nSunnuntaina 8.10.2017 \nLounas Tonnikalapastaa tai Syksyistä lihapataa \nAterian hinta on 9€ ja siihen sisältyy lämmin ruoka\, salaattia\, leivät ja juomat (maito\, vesi tai mehu) \nRuokailut tulee varata 2.10.2017 mennessä\, puhelimella 08-378502 tai sähköpostilla info@nallikarioy.fi \nKisakutsu löytyy täältä
URL:https://www.oulunuinti.fi/tapahtuma/ruskauinnit/
LOCATION:Oulun uimahalli
CATEGORIES:Kilpauinti,Tapahtumat Oulun uimahallissa
ATTACH;FMTTYPE=image/jpeg:https://www.oulunuinti.fi/wp-content/uploads/IMG_8991.jpg
END:VEVENT
BEGIN:VEVENT
DTSTART;TZID=Europe/Moscow:20170930T153000
DTEND;TZID=Europe/Moscow:20171001T200000
DTSTAMP:20260423T084717
CREATED:20170919T101525Z
LAST-MODIFIED:20170926T103421Z
UID:874-1506785400-1506888000@www.oulunuinti.fi
SUMMARY:Monipuolisuuspäivä
DESCRIPTION:Normaali uimakoulut korvataan monipuolisella tekemisellä eri toimintapisteissä: Wibit-vesitemppuradalla\, vesijuoksumatolla\, uimahypyillä yms. Lapset käyvät ohjaajien kanssa eri toimipisteissä.
URL:https://www.oulunuinti.fi/tapahtuma/monipuolisuuspaiva/
LOCATION:Oulun uimahalli
CATEGORIES:Tapahtumat Oulun uimahallissa,Uimakoulut
END:VEVENT
BEGIN:VEVENT
DTSTART;TZID=Europe/Moscow:20170923T153000
DTEND;TZID=Europe/Moscow:20170923T173000
DTSTAMP:20260423T084717
CREATED:20170919T100434Z
LAST-MODIFIED:20170919T100434Z
UID:866-1506180600-1506187800@www.oulunuinti.fi
SUMMARY:OuluCup vko 38
DESCRIPTION:OuluCup seuran sisäinen uintikilpailu. Verryttely alkaa klo 15.30 ja kisa klo 16.00. Ilmoittautuminen edellisen viikon torstaihin mennessä Octoon ja lisenssittömät suoraan valmentajalle.
URL:https://www.oulunuinti.fi/tapahtuma/oulucup-vko-38/
LOCATION:Oulun uimahalli
CATEGORIES:Kilpauinti,Tapahtumat Oulun uimahallissa
END:VEVENT
BEGIN:VEVENT
DTSTART;TZID=Europe/Moscow:20170909T080000
DTEND;TZID=Europe/Moscow:20170909T180000
DTSTAMP:20260423T084717
CREATED:20170822T104154Z
LAST-MODIFIED:20170822T104154Z
UID:821-1504944000-1504980000@www.oulunuinti.fi
SUMMARY:Uimahyppyjen POSAM
DESCRIPTION:Pohjois-Suomen aluemestaruudet
URL:https://www.oulunuinti.fi/tapahtuma/uimahyppyjen-posam/
END:VEVENT
BEGIN:VEVENT
DTSTART;TZID=Europe/Moscow:20170827T173000
DTEND;TZID=Europe/Moscow:20170827T194500
DTSTAMP:20260423T084717
CREATED:20170823T083427Z
LAST-MODIFIED:20170823T083427Z
UID:842-1503855000-1503863100@www.oulunuinti.fi
SUMMARY:Uimahyppykoulujen aloitustilaisuus
DESCRIPTION:Oulun Uinnin uimahyppykoulujen aloitustilaisuus sunnuntaina 27.8.2017. klo 17.45-19.45 \, kokoontuminen Oulun Uimahallin aulassa klo 17.30. \nEnsimmäisellä kerralla katsotaan uimahyppykoululaisehdokkaiden taitotaso ja sen jälkeen annetaan ryhmäsuositus.  Mukaan jumppavaatteet ja uima-asut. Ne joiden taitotaso ei vielä riitä uimahyppykouluun on mahdollista osallistua 10 kerran trampoliinikurssille\, missä luodaan pohja uimahyppytaidoille.
URL:https://www.oulunuinti.fi/tapahtuma/uimahyppykoulujen-aloitustilaisuus/
LOCATION:Oulun uimahalli
CATEGORIES:Uimahypyt
ATTACH;FMTTYPE=image/jpeg:https://www.oulunuinti.fi/wp-content/uploads/uimahyppy-2.jpg
END:VEVENT
BEGIN:VEVENT
DTSTART;TZID=UTC:20170812T153000
DTEND;TZID=UTC:20170813T210000
DTSTAMP:20260423T084717
CREATED:20170423T053835Z
LAST-MODIFIED:20170423T053835Z
UID:684-1502551800-1502658000@www.oulunuinti.fi
SUMMARY:Syyskausi 2017 alkaa
DESCRIPTION:Syyskauden 2017 ensimmäiset perheuintivuorot ja uimakoulujen aloitus
URL:https://www.oulunuinti.fi/tapahtuma/syyskausi-2017-alkaa/
CATEGORIES:Tapahtumat Oulun uimahallissa,Uimakoulut
END:VEVENT
BEGIN:VEVENT
DTSTART;TZID=UTC:20170731T090000
DTEND;TZID=UTC:20170809T150000
DTSTAMP:20260423T084717
CREATED:20170423T053625Z
LAST-MODIFIED:20170423T053625Z
UID:682-1501491600-1502290800@www.oulunuinti.fi
SUMMARY:Kesäleiri 2
DESCRIPTION:Leirit on suunnattu pääsääntöisesti 9-13 vuotiaille. Varusteina polkupyörä\, ulko- ja sisäliikuntavarusteet sekä uintivarusteet\, juomapullo ja eväät. \nOHJELMA: \nklo 9.00 – 9 .30 	päivä alkaa\nklo 9.30 – 11.30 	ohjelmaa\nklo 11.30 – 12.30 	eväiden syönti\nklo 12.30 – 14.30 	ohjelmaa\nklo 14.30 – 15.00 	vapaata pelailua ja leikkimistä\, päivä loppuu \nOHJELMASSA (Päiväohjelma riippuu ilmasta yms. asioista eli alla oleva ei ole päiväjärjestys leirille):  \n1.	Viestikarnevaali: leikkimielisiä viestejä ja pihapeliturnaus: jalkapallo\, norsupallo\, pesäpallo\n2.	Pyöräretki Valkeisjärvelle\, eväiden syönti\, juoksu metsässä ja uinti\n3.	10. ottelu: 60m juoksu\, 1km juoksu\, vauhditon pituus\, 5-loikka\, pallonheitto\, hyppynaru yms.\n4.	Huikia seikkailupuisto ja legopäivä: aarteenetsintä\, mallin mukaan rakentaminen\, ihmislegot\n5.	Frisbee golf ja pihakuntosali (Hiironen)\n6.	Suunnistus (Raksilan ympäristö)\n7.	Pyörällä Nallikariin\, luontoretki sekä uintia ja ensiapukoulutusta\n8.	Voimistelu (OU-Sali / piha): käsilläseisonnat\, kuperkeikat\, kärrynpyörät\, hulavanteet yms. \nTapaaminen aina Oulun Uimahallilla Oulun Uinnin liikuntasalissa\, viimeistään klo 9.20. Kulku liikuntasaliin uimahallin takaa\, josta myös nouto/lähtö viimeistään klo 15.00. Huoltajan luvalla leiriläiset voivat tulla ja lähteä leiriltä omatoimisesti.  \nUimarit tuovat omat eväät\, esimerkiksi leipää\, jugurtti\, hedelmä\, pillimehu yms. Uimareiden eväille on uimahallilla käytössä jääkaappi.  \nLeirille otetaan ilmoittautumisjärjestyksessä maksimissaan per leiri 25 lasta. Leirillä on täysi-ikäinen vastuuohjaaja sekä 2-3 kesätyösetelinuorta avustajina. Ilmoittautuminen Oulun Uinnin www.omauinti.fi sivujen kautta\, josta tulee myös lasku. Kesäleirit löytyvät 5. Rolloryhmät-valikon alta. Leirin hinta on 80€.  \nLeiriläiset ovat vakuutettuja seuran taholta leirin ajan. Päiväohjelma on alustava ja siihen voi tulla muutoksia esimerkiksi sääolosuhteiden takia. Oulun Uinti pidättää oikeudet muutoksiin ja pitää oikeuden tarvittaessa perua leirit\, esimerkiksi jos osallistujia ei tule riittävästi.
URL:https://www.oulunuinti.fi/tapahtuma/kesaleiri-2/
CATEGORIES:Tapahtumat Oulun uimahallissa
END:VEVENT
BEGIN:VEVENT
DTSTART;TZID=UTC:20170718T090000
DTEND;TZID=UTC:20170727T150000
DTSTAMP:20260423T084717
CREATED:20170423T053456Z
LAST-MODIFIED:20170423T053456Z
UID:679-1500368400-1501167600@www.oulunuinti.fi
SUMMARY:Kesäleiri 1
DESCRIPTION:Leirit on suunnattu pääsääntöisesti 9-13 vuotiaille. Varusteina polkupyörä\, ulko- ja sisäliikuntavarusteet sekä uintivarusteet\, juomapullo ja eväät. \nOHJELMA: \nklo 9.00 – 9 .30 päivä alkaa\nklo 9.30 – 11.30 ohjelmaa\nklo 11.30 – 12.30 eväiden syönti\nklo 12.30 – 14.30 ohjelmaa\nklo 14.30 – 15.00 vapaata pelailua ja leikkimistä\, päivä loppuu \nOHJELMASSA (Päiväohjelma riippuu ilmasta yms. asioista eli alla oleva ei ole päiväjärjestys leirille): \n1. Viestikarnevaali: leikkimielisiä viestejä ja pihapeliturnaus: jalkapallo\, norsupallo\, pesäpallo\n2. Pyöräretki Valkeisjärvelle\, eväiden syönti\, juoksu metsässä ja uinti\n3. 10. ottelu: 60m juoksu\, 1km juoksu\, vauhditon pituus\, 5-loikka\, pallonheitto\, hyppynaru yms.\n4. Huikia seikkailupuisto ja legopäivä: aarteenetsintä\, mallin mukaan rakentaminen\, ihmislegot\n5. Frisbee golf ja pihakuntosali (Hiironen)\n6. Suunnistus (Raksilan ympäristö)\n7. Pyörällä Nallikariin\, luontoretki sekä uintia ja ensiapukoulutusta\n8. Voimistelu (OU-Sali / piha): käsilläseisonnat\, kuperkeikat\, kärrynpyörät\, hulavanteet yms. \nTapaaminen aina Oulun Uimahallilla Oulun Uinnin liikuntasalissa\, viimeistään klo 9.20. Kulku liikuntasaliin uimahallin takaa\, josta myös nouto/lähtö viimeistään klo 15.00. Huoltajan luvalla leiriläiset voivat tulla ja lähteä leiriltä omatoimisesti. \nUimarit tuovat omat eväät\, esimerkiksi leipää\, jugurtti\, hedelmä\, pillimehu yms. Uimareiden eväille on uimahallilla käytössä jääkaappi. \nLeirille otetaan ilmoittautumisjärjestyksessä maksimissaan per leiri 25 lasta. Leirillä on täysi-ikäinen vastuuohjaaja sekä 2-3 kesätyösetelinuorta avustajina. Ilmoittautuminen Oulun Uinnin www.omauinti.fi sivujen kautta\, josta tulee myös lasku. Kesäleirit löytyvät 5. Rolloryhmät-valikon alta. Leirin hinta on 80€. \nLeiriläiset ovat vakuutettuja seuran taholta leirin ajan. Päiväohjelma on alustava ja siihen voi tulla muutoksia esimerkiksi sääolosuhteiden takia. Oulun Uinti pidättää oikeudet muutoksiin ja pitää oikeuden tarvittaessa perua leirit\, esimerkiksi jos osallistujia ei tule riittävästi.
URL:https://www.oulunuinti.fi/tapahtuma/kesaleiri-1/
CATEGORIES:Tapahtumat Oulun uimahallissa
END:VEVENT
BEGIN:VEVENT
DTSTART;TZID=Europe/Moscow:20170706T100000
DTEND;TZID=Europe/Moscow:20170709T190000
DTSTAMP:20260423T084717
CREATED:20170612T100443Z
LAST-MODIFIED:20170612T100443Z
UID:740-1499335200-1499626800@www.oulunuinti.fi
SUMMARY:Suomen mestaruus- ja nuorten mestaruuskilpailut
DESCRIPTION:Kansallinen uintikausi päättyy Tampereen SM-viikkoon\, lisätietoa täältä.
URL:https://www.oulunuinti.fi/tapahtuma/suomen-mestaruus-ja-nuorten-mestaruuskilpailut/
CATEGORIES:Kilpauinti,Tapahtumat Oulun uimahallissa
END:VEVENT
BEGIN:VEVENT
DTSTART;TZID=Europe/Moscow:20170703T080000
DTEND;TZID=Europe/Moscow:20170811T235900
DTSTAMP:20260423T084717
CREATED:20170703T120530Z
LAST-MODIFIED:20170703T120856Z
UID:788-1499068800-1502495940@www.oulunuinti.fi
SUMMARY:Ilmoittautuminen Uimakouluihin ja Uintiryhmiin on auki!
DESCRIPTION:Ilmoittautuminen Oulun Uinnin uimakouluihin ja uintiryhmiin on auki. Ilmoittautuminen tapahtuu Seuramappi nettisivuilla. Uimakoulut ja perheuintivuoro alkavat lauantaina 12.8.2017 klo 15.30 Oulun Uimahallissa.
URL:https://www.oulunuinti.fi/tapahtuma/ilmoittautuminen-uimakouluin-ja-uintiryhmiin-auki/
CATEGORIES:Uimakoulut
ATTACH;FMTTYPE=image/jpeg:https://www.oulunuinti.fi/wp-content/uploads/Perheuintivuoro-e1499181503786.jpg
END:VEVENT
BEGIN:VEVENT
DTSTART;TZID=Europe/Moscow:20170616T080000
DTEND;TZID=Europe/Moscow:20170618T200000
DTSTAMP:20260423T084717
CREATED:20170612T100121Z
LAST-MODIFIED:20170612T100121Z
UID:738-1497600000-1497816000@www.oulunuinti.fi
SUMMARY:Ikäkausimestaruusuinnit
DESCRIPTION:Oulun Uinnin nuoret uimarit suuntaavat 16.-18.6. Tampereelle Ikäkausimestaruusuinteihin. Kisainfoa täältä ja kisoja voi seurata täältä
URL:https://www.oulunuinti.fi/tapahtuma/ikakausimestaruusuinnit/
END:VEVENT
BEGIN:VEVENT
DTSTART;TZID=Europe/Moscow:20170609T170000
DTEND;TZID=Europe/Moscow:20170611T133000
DTSTAMP:20260423T084717
CREATED:20170529T162147Z
LAST-MODIFIED:20170529T162147Z
UID:731-1497027600-1497187800@www.oulunuinti.fi
SUMMARY:Taitouinnin Suomen ja nuorten Suomen Mestaruuskilpailut
DESCRIPTION:Oulun Uinti järjestää kisat Oulun Uimahallissa 9.-11.6.2017. Kisat alkavat perjantaina 9.6. klo 17.00\, lauantaina 10.6. klo 10.20 ja sunnuntaina 11.6. klo 9.00. Kisoihin on vapaa pääsy!
URL:https://www.oulunuinti.fi/tapahtuma/taitouinnin-suomen-ja-nuorten-suomen-mestaruuskilpailut/
CATEGORIES:Taitouinti,Tapahtumat Oulun uimahallissa
ATTACH;FMTTYPE=image/jpeg:https://www.oulunuinti.fi/wp-content/uploads/taitouinti3.jpg
END:VEVENT
BEGIN:VEVENT
DTSTART;TZID=Europe/Moscow:20170609T140000
DTEND;TZID=Europe/Moscow:20170614T170000
DTSTAMP:20260423T084717
CREATED:20170612T095524Z
LAST-MODIFIED:20170612T095539Z
UID:736-1497016800-1497459600@www.oulunuinti.fi
SUMMARY:Rollokisa ja-leiri
DESCRIPTION:Hyvinkäällä kisaillaan ja leireillään perinteinen Rollo-tapahtuma. Ensin kisaillaan 9.-11.6. ja sitten on Rolloleiri 12.-14.6. Kisa-infoa löytyy täältä ja leiri-infoa täältä
URL:https://www.oulunuinti.fi/tapahtuma/rollokisa-ja-leiri/
CATEGORIES:Tapahtumat muualla
END:VEVENT
BEGIN:VEVENT
DTSTART;TZID=Europe/Moscow:20170529T183000
DTEND;TZID=Europe/Moscow:20170529T200000
DTSTAMP:20260423T084717
CREATED:20170428T110336Z
LAST-MODIFIED:20170428T110336Z
UID:702-1496082600-1496088000@www.oulunuinti.fi
SUMMARY:Oulun Uinnin kevätkokous
DESCRIPTION:Oulun Uinnin sääntömääräinen kevätkokous pidetään maanantaina 29.5.2017 Oulun Uimahallilla Oulun Uinnin kokoushuoneessa klo 18.30 alkaen. Kokouksessa käsitellään sääntöjen määräämät asiat.
URL:https://www.oulunuinti.fi/tapahtuma/oulun-uinnin-kevatkokous/
CATEGORIES:Kilpauinti,Taitouinti,Uimahypyt,Uimakoulut
END:VEVENT
BEGIN:VEVENT
DTSTART;TZID=UTC:20170528T180000
DTEND;TZID=UTC:20170528T200000
DTSTAMP:20260423T084717
CREATED:20170409T102107Z
LAST-MODIFIED:20170409T102125Z
UID:468-1495994400-1496001600@www.oulunuinti.fi
SUMMARY:Kevätkauden 2017 päättäjäiset
DESCRIPTION:Kevätkauden 2017 päättäjäiset seuranvuorolla klo 18.00 – 20.00. Altaassa Wibit\, juoksumatto ja temppurata sekä hyppytornit ovat auki. Kaikille uimakoululaisille mitalien ja diplomien jako.
URL:https://www.oulunuinti.fi/tapahtuma/kevatkauden-2017-paattajaiset/
CATEGORIES:Kilpauinti,Taitouinti,Tapahtumat Oulun uimahallissa,Uimahypyt,Uimakoulut
END:VEVENT
BEGIN:VEVENT
DTSTART;TZID=UTC:20170527T153000
DTEND;TZID=UTC:20170527T170000
DTSTAMP:20260423T084717
CREATED:20170409T101100Z
LAST-MODIFIED:20170409T101100Z
UID:464-1495899000-1495904400@www.oulunuinti.fi
SUMMARY:OuluCup-uintikisa
DESCRIPTION:OuluCup-Uintikisa Oulun Uimahalli syväpää radat 1-4. Verryttely klo 15.30-16.00 ja kisa klo 16.00 alkaen. Ensin lisenssiuimarit ja perään ilman lisenssiä. Ilmoittautumiset valmentajalle viimeistään torstaina 25.5.
URL:https://www.oulunuinti.fi/tapahtuma/oulucup-uintikisa-3/
CATEGORIES:Kilpauinti,Uimakoulut
END:VEVENT
BEGIN:VEVENT
DTSTART;TZID=UTC:20170524T130000
DTEND;TZID=UTC:20170524T220000
DTSTAMP:20260423T084717
CREATED:20170412T034330Z
LAST-MODIFIED:20170524T074313Z
UID:537-1495630800-1495663200@www.oulunuinti.fi
SUMMARY:Oulun Uimahalli poikkeuksellisesti kiinni
DESCRIPTION:Oulun Uimahalli suljetaan poikkeuksellisesti kello 13.00 kaupungin pelastusharjoituksen vuoksi\, joten kaikki illan uintivuorot on peruttu!
URL:https://www.oulunuinti.fi/tapahtuma/oulun-uimahalli-poikkeuksellisesti-kiinni/
CATEGORIES:Kilpauinti,Taitouinti,Tapahtumat Oulun uimahallissa,Uimahypyt,Uimakoulut
END:VEVENT
BEGIN:VEVENT
DTSTART;TZID=UTC:20170520T123000
DTEND;TZID=UTC:20170521T150000
DTSTAMP:20260423T084717
CREATED:20170409T101815Z
LAST-MODIFIED:20170517T063305Z
UID:466-1495283400-1495378800@www.oulunuinti.fi
SUMMARY:Lohi-uinnit
DESCRIPTION:Oulun Lohien uintikilpailut- Lauantain kaikki muut uimakoulut paitsi EasySwim-uimakoulut on siirretty sunnuntaille 21.5. tai seuraavalle viikonlopulle\, klo 18.00 alkaen.
URL:https://www.oulunuinti.fi/tapahtuma/lohi-uinnit/
CATEGORIES:Kilpauinti,Taitouinti,Tapahtumat Oulun uimahallissa,Uimahypyt,Uimakoulut
END:VEVENT
BEGIN:VEVENT
DTSTART;VALUE=DATE:20170520
DTEND;VALUE=DATE:20170521
DTSTAMP:20260423T084717
CREATED:20170518T075819Z
LAST-MODIFIED:20170518T075819Z
UID:722-1495238400-1495324799@www.oulunuinti.fi
SUMMARY:Raatin Uimahalli kiinni lauantaina 20.5.
DESCRIPTION:Raatin Uimahalli on suljettu yleisöltä lauantaina 20.5. Tervemaratonin takia\, näinollen kaikki ryhmät Raatissa on lauantailta 20.5. peruttu.
URL:https://www.oulunuinti.fi/tapahtuma/raatin-uimahalli-kiinni-lauantaina-20-5/
CATEGORIES:Uimakoulut
END:VEVENT
BEGIN:VEVENT
DTSTART;TZID=UTC:20170513T153000
DTEND;TZID=UTC:20170513T170000
DTSTAMP:20260423T084717
CREATED:20170409T100944Z
LAST-MODIFIED:20170409T100944Z
UID:461-1494689400-1494694800@www.oulunuinti.fi
SUMMARY:OuluCup-uintikisa
DESCRIPTION:OuluCup-Uintikisa Oulun Uimahalli syväpää radat 1-4. Verryttely klo 15.30-16.00 ja kisa klo 16.00 alkaen. Ensin lisenssiuimarit ja perään ilman lisenssiä. Ilmoittautumiset valmentajalle viimeistään torstaina 11.5.
URL:https://www.oulunuinti.fi/tapahtuma/oulucup-uintikisa-2/
CATEGORIES:Kilpauinti,Uimakoulut
END:VEVENT
BEGIN:VEVENT
DTSTART;TZID=UTC:20170506T153000
DTEND;TZID=UTC:20170506T170000
DTSTAMP:20260423T084717
CREATED:20170409T100623Z
LAST-MODIFIED:20170409T100623Z
UID:459-1494084600-1494090000@www.oulunuinti.fi
SUMMARY:OuluCup-uintikisa
DESCRIPTION:OuluCup-Uintikisa Oulun Uimahalli syväpää radat 1-4. Verryttely klo 15.30-16.00 ja kisa klo 16.00 alkaen. Ensin lisenssiuimarit ja perään ilman lisenssiä. Ilmoittautumiset valmentajalle viimeistään torstaina 4.5.
URL:https://www.oulunuinti.fi/tapahtuma/oulucup-uintikisa/
CATEGORIES:Kilpauinti,Uimakoulut
END:VEVENT
BEGIN:VEVENT
DTSTART;TZID=UTC:20170430T180000
DTEND;TZID=UTC:20170430T210000
DTSTAMP:20260423T084717
CREATED:20170413T120220Z
LAST-MODIFIED:20170428T111838Z
UID:638-1493575200-1493586000@www.oulunuinti.fi
SUMMARY:Vappuaatto EI UIMAKOULUJA
DESCRIPTION:Sunnuntaina 30.5.2017 EI ole perheuintivuoroa eikä uimakouluja\, myös Raatin uintiryhmät on peruttu. Kaikki sunnuntain ryhmäläiset tulevat lauantaina 29.5.2017 klo 15.30-18.00 Vappuriehaan.
URL:https://www.oulunuinti.fi/tapahtuma/ei-uimakouluja/
CATEGORIES:Kilpauinti,Taitouinti,Tapahtumat Oulun uimahallissa,Uimahypyt,Uimakoulut
END:VEVENT
BEGIN:VEVENT
DTSTART;TZID=UTC:20170429T153000
DTEND;TZID=UTC:20170429T180000
DTSTAMP:20260423T084717
CREATED:20170413T120031Z
LAST-MODIFIED:20170413T120031Z
UID:636-1493479800-1493488800@www.oulunuinti.fi
SUMMARY:Vappurieha
DESCRIPTION:Koko seuran Vappurieha lauantaina 29.5.2017 klo 15.30-18.00. Altaassa Wibit ja juoksumatto sekä hyppytornit avoinna. Kaikki uimakoululaiset tulevat riehaan lauantaina\, sunnuntaina 30.5.2017 EI ole perheuintivuoroa eikä uimakouluja
URL:https://www.oulunuinti.fi/tapahtuma/vappurieha/
CATEGORIES:Kilpauinti,Taitouinti,Tapahtumat Oulun uimahallissa,Uimahypyt,Uimakoulut
END:VEVENT
BEGIN:VEVENT
DTSTART;TZID=UTC:20170429T080000
DTEND;TZID=UTC:20170429T150000
DTSTAMP:20260423T084717
CREATED:20170409T102445Z
LAST-MODIFIED:20170409T102445Z
UID:470-1493452800-1493478000@www.oulunuinti.fi
SUMMARY:FinnCup 3 Uimahyppykisa
DESCRIPTION:Oulun Uinti järjestää Oulun Uimahallin syvässä päässä uimahyppykisan klo 8.00 alkaen. Kaikki syvänpään vuorot on peruttu.
URL:https://www.oulunuinti.fi/tapahtuma/finncup-3-uimahyppykisa/
CATEGORIES:Tapahtumat Oulun uimahallissa,Uimahypyt
END:VEVENT
BEGIN:VEVENT
DTSTART;TZID=UTC:20170422T153000
DTEND;TZID=UTC:20170422T170000
DTSTAMP:20260423T084717
CREATED:20170418T033420Z
LAST-MODIFIED:20170418T033420Z
UID:651-1492875000-1492880400@www.oulunuinti.fi
SUMMARY:Oulu-Cup uintikisa
DESCRIPTION:OuluCup-Uintikisa Oulun Uimahalli syväpää radat 1-4. Verryttely klo 15.30-16.00 ja kisa klo 16.00 alkaen. Ensin lisenssiuimarit ja perään ilman lisenssiä. Ilmoittautumiset valmentajalle viimeistään torstaina 20.4.
URL:https://www.oulunuinti.fi/tapahtuma/oulu-cup-uintikisa/
CATEGORIES:Kilpauinti,Tapahtumat Oulun uimahallissa,Uimakoulut
END:VEVENT
BEGIN:VEVENT
DTSTART;VALUE=DATE:20170414
DTEND;VALUE=DATE:20170418
DTSTAMP:20260423T084717
CREATED:20170407T125854Z
LAST-MODIFIED:20170413T120313Z
UID:440-1492128000-1492473599@www.oulunuinti.fi
SUMMARY:Pääsiäinen EI UIMAKOULUJA
DESCRIPTION:Kuvaus\nOulun Uinnin perheuintivuorot ja uimakoulut on peruttu pääsiäisen ajalta 14.-17.4.2017.
URL:https://www.oulunuinti.fi/tapahtuma/esimerkkitapahtuma/
LOCATION:Oulun uimahalli
CATEGORIES:Taitouinti,Tapahtumat Oulun uimahallissa,Uimahypyt,Uimakoulut
END:VEVENT
END:VCALENDAR