BEGIN:VCALENDAR
VERSION:2.0
PRODID:-//Oulun Uinti - ECPv6.15.20//NONSGML v1.0//EN
CALSCALE:GREGORIAN
METHOD:PUBLISH
X-ORIGINAL-URL:https://www.oulunuinti.fi
X-WR-CALDESC:Tapahtumat Oulun Uinti
REFRESH-INTERVAL;VALUE=DURATION:PT1H
X-Robots-Tag:noindex
X-PUBLISHED-TTL:PT1H
BEGIN:VTIMEZONE
TZID:Europe/Helsinki
BEGIN:DAYLIGHT
TZOFFSETFROM:+0200
TZOFFSETTO:+0300
TZNAME:EEST
DTSTART:20190331T010000
END:DAYLIGHT
BEGIN:STANDARD
TZOFFSETFROM:+0300
TZOFFSETTO:+0200
TZNAME:EET
DTSTART:20191027T010000
END:STANDARD
BEGIN:DAYLIGHT
TZOFFSETFROM:+0200
TZOFFSETTO:+0300
TZNAME:EEST
DTSTART:20200329T010000
END:DAYLIGHT
BEGIN:STANDARD
TZOFFSETFROM:+0300
TZOFFSETTO:+0200
TZNAME:EET
DTSTART:20201025T010000
END:STANDARD
BEGIN:DAYLIGHT
TZOFFSETFROM:+0200
TZOFFSETTO:+0300
TZNAME:EEST
DTSTART:20210328T010000
END:DAYLIGHT
BEGIN:STANDARD
TZOFFSETFROM:+0300
TZOFFSETTO:+0200
TZNAME:EET
DTSTART:20211031T010000
END:STANDARD
BEGIN:DAYLIGHT
TZOFFSETFROM:+0200
TZOFFSETTO:+0300
TZNAME:EEST
DTSTART:20220327T010000
END:DAYLIGHT
BEGIN:STANDARD
TZOFFSETFROM:+0300
TZOFFSETTO:+0200
TZNAME:EET
DTSTART:20221030T010000
END:STANDARD
END:VTIMEZONE
BEGIN:VTIMEZONE
TZID:Europe/Moscow
BEGIN:STANDARD
TZOFFSETFROM:+0300
TZOFFSETTO:+0300
TZNAME:MSK
DTSTART:20190101T000000
END:STANDARD
END:VTIMEZONE
BEGIN:VEVENT
DTSTART;TZID=Europe/Helsinki:20210402T080000
DTEND;TZID=Europe/Helsinki:20210402T200000
DTSTAMP:20260422T143340
CREATED:20210320T120957Z
LAST-MODIFIED:20210321T044951Z
UID:3058-1617350400-1617393600@www.oulunuinti.fi
SUMMARY:Perjantaipärskeet (vain Oulun Uinnin ja Oulun Lohien uimareille)
DESCRIPTION:Oulun Uinti ja Oulun Lohet järjestävät seurojen uimareille Perjantaipärskeet 2.4. eli pitkänä perjantaina. \nPerjantaipärskeet koostuvat kolmesta jaksosta\, jotka on jaettu ikäryhmittäin: \nJakso 1: 2008 syntyneet ja nuoremmat klo 8-12 \nJakso 2: 2006-2007 syntyneet klo 12-16 \nJakso 3: 2005 syntyneet ja vanhemmat klo 16-20 \n  \nVoit ilmoittautua toimitsijaksi haluamallesi jaksolle alla olevasta linkistä. Kommentoi nimesi haluamaasi ruutuun ja ylläpitäjät lisäävät nimesi listalle. \nPerjantaipärskeiden toimitsijailmoittautuminen  \n 
URL:https://www.oulunuinti.fi/tapahtuma/perjantai-parskeet-ainoastaan-oulun-uinnin-ja-oulun-lohien-uimareille/
CATEGORIES:Kilpauinti
END:VEVENT
BEGIN:VEVENT
DTSTART;TZID=Europe/Helsinki:20210227T080000
DTEND;TZID=Europe/Helsinki:20210228T170000
DTSTAMP:20260422T143340
CREATED:20210205T083217Z
LAST-MODIFIED:20210205T083217Z
UID:3011-1614412800-1614531600@www.oulunuinti.fi
SUMMARY:Oulun Uinnit 2021 on peruttu!
DESCRIPTION:Oulun Uinnit 2021 on peruttu!
URL:https://www.oulunuinti.fi/tapahtuma/oulun-uinnit-2021-on-peruttu/
CATEGORIES:Kilpauinti
END:VEVENT
BEGIN:VEVENT
DTSTART;TZID=Europe/Helsinki:20201214T120000
DTEND;TZID=Europe/Helsinki:20201214T120000
DTSTAMP:20260422T143340
CREATED:20201210T125332Z
LAST-MODIFIED:20201210T125332Z
UID:2859-1607947200-1607947200@www.oulunuinti.fi
SUMMARY:Ilmoittautuminen kevään uimakouluihin ja kursseille!
DESCRIPTION:Ilmoittautuminen kevään uimakouluihin ja kursseille avautuu maanantaina 14.12.2021 klo 12.00. \n  \n 
URL:https://www.oulunuinti.fi/tapahtuma/ilmoittautuminen-kevaan-uimakouluihin-ja-kursseille/
CATEGORIES:Tapahtumat Oulun uimahallissa
END:VEVENT
BEGIN:VEVENT
DTSTART;TZID=Europe/Helsinki:20201212T140000
DTEND;TZID=Europe/Helsinki:20201212T150000
DTSTAMP:20260422T143340
CREATED:20201120T073623Z
LAST-MODIFIED:20201208T110939Z
UID:2819-1607781600-1607785200@www.oulunuinti.fi
SUMMARY:Oulun Uinnin Vuosikokous etäyhteydellä!
DESCRIPTION:Oulun Uinnin sääntömääräinen vuosikokous pidetään lauantaina 12.12.2020 klo 14.00 alkaen etäyhteydellä Teams-kautta. \nKokoukseen voi osallistua vain etäyhteydellä. Ilmoittaudu etutkäteen 11.12.2020 sähköpostitse lotta.heikkinen@student.oulu.fi . Näin pystymme lähettämään sinulle ennen kokousta etäkokouskutsulinkin. \nKokouksen yhteydessä palkitaan kevätkokouksessa valitut kunniajäsenet Tuire Pulkkinen ja Jaakko Erkinaro sekä kunniapuheenjohtaja Ari Pikkuaho. \nYhdistyksen vuosikokouksessa käsitellään seuraavat asiat: \n1 Avataan kokous\n2 Valitaan kokoukselle\na) puheenjohtaja\nb) sihteeri\nc) kaksi pöytäkirjan tarkastajaa\nd) kaksi ääntenlaskijaa\n3 Todetaan läsnä olevat äänioikeutetut jäsenet\n4 Todetaan kokouksen laillisuus ja päätösvaltaisuus\n5 Hyväksytään kokouksen työjärjestys\n6 Esitetään hallituksen laatima vuosikertomus ja tilinpäätös sekä toiminnantarkastajien tai tilintarkastajien\nantama lausunto\n7 Päätetään tilinpäätöksen vahvistamisesta ja vastuuvapauden myöntämisestä hallitukselle ja muille\nvastuuvelvollisille\n8 Käsitellään muut kokouskutsussa mainitut asiat\n9 Päätetään kokous
URL:https://www.oulunuinti.fi/tapahtuma/oulun-uinnin-vuosikokous-2/
LOCATION:Oulun uimahalli
CATEGORIES:Tapahtumat Oulun uimahallissa
ATTACH;FMTTYPE=image/jpeg:https://www.oulunuinti.fi/wp-content/uploads/Raksila-kisa.jpg
END:VEVENT
BEGIN:VEVENT
DTSTART;TZID=Europe/Moscow:20201206T080000
DTEND;TZID=Europe/Moscow:20201206T170000
DTSTAMP:20260422T143340
CREATED:20201110T064701Z
LAST-MODIFIED:20201127T155052Z
UID:2800-1607241600-1607274000@www.oulunuinti.fi
SUMMARY:Joulukuunkisat 6.12.2020 on peruutettu Oulun koronatilanteen pahenemisen vuoksi.
DESCRIPTION:Joulukuunkisat 6.12.2020 on peruutettu Oulun koronatilanteen pahenemisen vuoksi.
URL:https://www.oulunuinti.fi/tapahtuma/joulukuunkisat-4/
LOCATION:Oulun uimahalli
CATEGORIES:Kilpauinti
ATTACH;FMTTYPE=image/jpeg:https://www.oulunuinti.fi/wp-content/uploads/DSC07752.jpg
END:VEVENT
BEGIN:VEVENT
DTSTART;VALUE=DATE:20201206
DTEND;VALUE=DATE:20201207
DTSTAMP:20260422T143340
CREATED:20201129T134301Z
LAST-MODIFIED:20201129T134301Z
UID:2838-1607212800-1607299199@www.oulunuinti.fi
SUMMARY:Itsenäisyyspäivä 6.12.2020 PERHEUINTIVUOROT PERUTTU\, UIMAHALLI ON KIINNI!
DESCRIPTION:
URL:https://www.oulunuinti.fi/tapahtuma/itsenaisyyspaiva-6-12-2020-perheuintivuorot-peruttu-uimahalli-on-kiinni/
LOCATION:Oulun uimahalli
CATEGORIES:Tapahtumat Oulun uimahallissa
END:VEVENT
BEGIN:VEVENT
DTSTART;TZID=Europe/Moscow:20201121T153000
DTEND;TZID=Europe/Moscow:20201121T183000
DTSTAMP:20260422T143340
CREATED:20200824T133346Z
LAST-MODIFIED:20200824T133346Z
UID:2665-1605972600-1605983400@www.oulunuinti.fi
SUMMARY:OuluCup IV syksy 2020
DESCRIPTION:OuluCup IV lauantaina 21.11.2020. Verryttely klo 15.30-16.00 ja kisat klo 16.00. Ilmoittautuminen oman valmentajan kautta Tempukseen viimeistään tiistaina 17.11.2020
URL:https://www.oulunuinti.fi/tapahtuma/oulucup-iv-syksy-2020/
LOCATION:Oulun uimahalli
CATEGORIES:Kilpauinti
END:VEVENT
BEGIN:VEVENT
DTSTART;TZID=Europe/Moscow:20201114T153000
DTEND;TZID=Europe/Moscow:20201115T210000
DTSTAMP:20260422T143340
CREATED:20201027T082025Z
LAST-MODIFIED:20201027T082025Z
UID:2768-1605367800-1605474000@www.oulunuinti.fi
SUMMARY:14.-15.11.2020 Seuran perheuintivuoro ja uimakoulut on PERUTTU!
DESCRIPTION:Oulun Uinti järjestää yhdessä Suomen Uimaliiton kanssa kansallisen GP-arvokilpailun 14.-15.11.2020. Kilpailijoita tulee ympäri Suomea\, vallitsevan koronatilanteen takia\, peruutamme seuran perheuintivuorot ja kaikki uimakoulut viikonlopulta.
URL:https://www.oulunuinti.fi/tapahtuma/14-15-11-2020-seuran-perheuintivuoro-ja-uimakoulut-on-peruttu/
LOCATION:Oulun uimahalli
CATEGORIES:Uimakoulut
END:VEVENT
BEGIN:VEVENT
DTSTART;TZID=Europe/Moscow:20201114T080000
DTEND;TZID=Europe/Moscow:20201115T190000
DTSTAMP:20260422T143340
CREATED:20201009T063124Z
LAST-MODIFIED:20201111T144446Z
UID:2736-1605340800-1605466800@www.oulunuinti.fi
SUMMARY:INFO Suomen Uimaliiton GP-kisa 14.-15.11.2020!
DESCRIPTION:Oulussa uidaan 14.-15.11.2020 kovatasoiset Suomen Uimaliiton GP-kisat.\n\n\n\n\n\n\nGP-kisataohje 2020 Seuroille \n\nVielä on vapaita toimitsijatehtäviä tarjolla\, käy varaamassa omasi!\n\nToimitsija-ilmoittautumislomake
URL:https://www.oulunuinti.fi/tapahtuma/suomen-uimaliiton-gp-kisa/
LOCATION:Oulun uimahalli
CATEGORIES:Kilpauinti
ATTACH;FMTTYPE=image/png:https://www.oulunuinti.fi/wp-content/uploads/Tähtiseura-3.png
END:VEVENT
BEGIN:VEVENT
DTSTART;TZID=Europe/Moscow:20201101T080000
DTEND;TZID=Europe/Moscow:20201101T210000
DTSTAMP:20260422T143340
CREATED:20201028T084910Z
LAST-MODIFIED:20201028T084954Z
UID:2774-1604217600-1604264400@www.oulunuinti.fi
SUMMARY:Uimakoulut ovat normaalisti viikonloppuna 31.10.-1.11.!
DESCRIPTION:Seuran uimakoulut ovat viikonloppuna 31.10.-1.11. normaalisti\, Perheuintia EI OLE\, uimakilpailuiden takia. \n 
URL:https://www.oulunuinti.fi/tapahtuma/perheuintivuorot-ja-uimakoulut-31-10-1-11-on-normaalisti/
LOCATION:Oulun uimahalli
CATEGORIES:Uimakoulut
ATTACH;FMTTYPE=image/jpeg:https://www.oulunuinti.fi/wp-content/uploads/IMG_7270.jpg
END:VEVENT
BEGIN:VEVENT
DTSTART;TZID=Europe/Moscow:20201030T150000
DTEND;TZID=Europe/Moscow:20201101T190000
DTSTAMP:20260422T143340
CREATED:20201012T104433Z
LAST-MODIFIED:20201012T110114Z
UID:2746-1604070000-1604257200@www.oulunuinti.fi
SUMMARY:Pohjois-Suomen IKM-karsinnat
DESCRIPTION:Oulun Uinti järjestää yhdessä Oulun Lohien\, Kempeleen Pyrinnän ja Haukiputaan Heiton kanssa Suomen Uimaliiton IKM-Pohjois-Suomen karsintakisat 30.10.-1.11.2020. \nOulun Uinti järjestää yhdessä Oulun Lohien\, Kempeleen Pyrinnän ja Haukiputaan Heiton kanssa Suomen Uimaliiton IKM-Pohjois-Suomen karsintakisat 30.10.-1.11.2020. \nToimitsijatehtäviin Google Sheetsiin kommentoimalla: \nhttps://docs.google.com/spreadsheets/d/1K2bVmFnbjXTucY4JyzHGP3dxWEon7VXEuWtpa5sMzjk/edit?usp=sharing \nOulun Uinnin ”vastuu” jaksot ovat lauantaiaamu- ja sunnuntai-iltajakso. Näihin jaksoihin toivommekin käännöstarkastajia ja muihin tehtäviin ensisijaisesti ilmoittautumaan. Muillekin jaksoille toki saa tulla toimitsijaksi. \nKisajaksot ovat kohtuu lyhyitä\, vain noin kaksi – kolme tuntia. Toimitsijoille on tarjolla kahvia ja pientä purtavaa. \nKisoihin ei ole yleisöllä pääsyä\, ja kahvion kaikki pöydät on varattu kisaruokailijoille\, eli ilmoittautukaa toimitsijoiksi\, niin pääsette katsomaan kisoja paikanpäälle parhailta paikoilta!
URL:https://www.oulunuinti.fi/tapahtuma/pohjois-suomen-ikm-karsinnat/
LOCATION:Oulun uimahalli
CATEGORIES:Kilpauinti
END:VEVENT
BEGIN:VEVENT
DTSTART;TZID=Europe/Moscow:20201017T153000
DTEND;TZID=Europe/Moscow:20201025T210000
DTSTAMP:20260422T143340
CREATED:20201001T064133Z
LAST-MODIFIED:20201016T065631Z
UID:2733-1602948600-1603659600@www.oulunuinti.fi
SUMMARY:SYYSLOMAN PERHEUINTIVUOROT JA UIMAKOULUT!
DESCRIPTION:Syyslomalla pyörii normaalisti uimakoulut- ja ryhmät. Myös perheuintivuorot ovat normaalisti! \n 
URL:https://www.oulunuinti.fi/tapahtuma/syysloman-uimakoulut/
LOCATION:Oulun uimahalli
CATEGORIES:Uimakoulut
ATTACH;FMTTYPE=image/jpeg:https://www.oulunuinti.fi/wp-content/uploads/Memma.jpg
END:VEVENT
BEGIN:VEVENT
DTSTART;TZID=Europe/Moscow:20201017T153000
DTEND;TZID=Europe/Moscow:20201017T183000
DTSTAMP:20260422T143340
CREATED:20200824T133213Z
LAST-MODIFIED:20200824T133213Z
UID:2663-1602948600-1602959400@www.oulunuinti.fi
SUMMARY:OuluCup III syksy 2020
DESCRIPTION:OuluCup III lauantaina 17.10.2020. Verryttely klo 15.30-16.00 ja kisat klo 16.00. Ilmoittautuminen oman valmentajan kautta Tempukseen viimeistään tiistaina 13.10.2020
URL:https://www.oulunuinti.fi/tapahtuma/oulucup-iii-syksy-2020/
LOCATION:Oulun uimahalli
CATEGORIES:Kilpauinti
END:VEVENT
BEGIN:VEVENT
DTSTART;TZID=Europe/Moscow:20201003T080000
DTEND;TZID=Europe/Moscow:20201004T153000
DTSTAMP:20260422T143340
CREATED:20200910T103454Z
LAST-MODIFIED:20200910T122317Z
UID:1960-1601712000-1601825400@www.oulunuinti.fi
SUMMARY:Ruskauinnit
DESCRIPTION:Oulun Uinti järjestää kansalliset Ruskauinnit Oulun Uimahallissa 3.-4.10.2020. Tässä linkki kutsuun  \nIlmoittatuminen Tempukseen 24.9.2020. \n 
URL:https://www.oulunuinti.fi/tapahtuma/ruskauinnit-3/
LOCATION:Oulun uimahalli
CATEGORIES:Tapahtumat Oulun uimahallissa
END:VEVENT
BEGIN:VEVENT
DTSTART;TZID=Europe/Moscow:20200930T000000
DTEND;TZID=Europe/Moscow:20201002T235900
DTSTAMP:20260422T143340
CREATED:20200923T164057Z
LAST-MODIFIED:20200929T150157Z
UID:2714-1601424000-1601683140@www.oulunuinti.fi
SUMMARY:Oulun Uimahallit on suljettu keskiviikosta 30.9. perjantaihin 2.10.
DESCRIPTION:Julkisten ja hyvinvointialojen liitto JHL ry on ilmoittanut työtaistelutoimenpiteistä\, jotka koskevat Oulun kaupungin Tilapalvelut-liikelaitoksen ateria- ja puhtauspalveluja keskiviikosta 30.9. perjantaihin 2.10. Lakon takia Oulun kaikki uimahallit on suljettu keskiviikosta 30.9. perjantaihin 2.10.\, koska niiden hygieniatasoa ei voida tässä tilanteessa taata. \nTästä syystä Oulun Uinnin kaikki uimakoulut- ja ryhmät on peruttu Oulun Uimahallissa ja Raatin Uimahallissa keskiviikosta 30.9. perjantaihin 2.10.
URL:https://www.oulunuinti.fi/tapahtuma/oulun-uimahalli-on-suljettu-torstaina-24-9-2020/
CATEGORIES:Tapahtumat Oulun uimahallissa
END:VEVENT
BEGIN:VEVENT
DTSTART;TZID=Europe/Moscow:20200912T153000
DTEND;TZID=Europe/Moscow:20200912T183000
DTSTAMP:20260422T143340
CREATED:20200824T133006Z
LAST-MODIFIED:20200824T133024Z
UID:2660-1599924600-1599935400@www.oulunuinti.fi
SUMMARY:OuluCup II syksy 2020
DESCRIPTION:OuluCup II lauantaina 12.9.2020. Verryttely klo 15.30-16.00 ja kisat klo 16.00. Ilmoittautuminen oman valmentajan kautta Tempukseen viimeistään tiistaina 8.9.2020
URL:https://www.oulunuinti.fi/tapahtuma/oulucup-ii-syksy-2020/
LOCATION:Oulun uimahalli
CATEGORIES:Kilpauinti
END:VEVENT
BEGIN:VEVENT
DTSTART;TZID=Europe/Moscow:20200912T113000
DTEND;TZID=Europe/Moscow:20200912T180000
DTSTAMP:20260422T143340
CREATED:20200813T142454Z
LAST-MODIFIED:20200824T135152Z
UID:2612-1599910200-1599933600@www.oulunuinti.fi
SUMMARY:Toimitsijakoulutus II Oulussa 12.9.2020 klo 11.30 alkaen!
DESCRIPTION:Suomen Uimaliiton toimitsijakoulutus II-luokka Oulussa lauantaina 12.9.2020. Varaa aika lauantai kalenteristasi koulutukseen! Koulutus on Oulun Uinnin jäsenille ilmainen. \nIlmoittaudu TÄSTÄ! \n2-luokka\nUinnin 2-luokan toimitsijakoulutus on tarkoitettu uusille toimitsijoille sekä 2-luokan toimitsijakortin päivittäjille. Koulutus antaa valmiudet toimia muun muassa ajanottajana ja käännösvalvojana. Ikäraja on 15 vuotta ja koulutuksen kesto 6 tuntia. Koulutukseen voi hakeutua alaikäisenäkin\, mutta toimitsijaoikeudet saa vasta 15 vuotta täytettyään.
URL:https://www.oulunuinti.fi/tapahtuma/toimitsijakoulutus-ii-oulussa-12-9-2020-klo-11-30-alkaen/
LOCATION:Oulun uimahalli
CATEGORIES:Kilpauinti
END:VEVENT
BEGIN:VEVENT
DTSTART;TZID=Europe/Moscow:20200830T190000
DTEND;TZID=Europe/Moscow:20200830T200000
DTSTAMP:20260422T143340
CREATED:20200812T135158Z
LAST-MODIFIED:20200812T135158Z
UID:2602-1598814000-1598817600@www.oulunuinti.fi
SUMMARY:Oulun Uinnin sääntömääräinen kevätkokous!
DESCRIPTION:Oulun Uinnin sääntömääräinen kevätkokous pidetään  Oulun Uimahallilla sunnuntaina 30.8.2020 klo 19.00. Kokouksessa käsitellään sääntömääräiset asiat. \nKokoukseen toivotaan ennakkoilmoittautumista\, 28.8.2020 mennessä\, koronatilanteen takia\, näin pystymme varmistamaan kokouksen osallistujien turvavälit. \nTässä on linkki ilmoittautumislmakkeeseen \n 
URL:https://www.oulunuinti.fi/tapahtuma/oulun-uinnin-saantomaarainen-kevatkokous/
LOCATION:Oulun uimahalli
CATEGORIES:Tapahtumat Oulun uimahallissa
ATTACH;FMTTYPE=image/jpeg:https://www.oulunuinti.fi/wp-content/uploads/Pääkuva-5-1-e1491917445307.jpg
END:VEVENT
BEGIN:VEVENT
DTSTART;TZID=Europe/Moscow:20200829T153000
DTEND;TZID=Europe/Moscow:20200829T183000
DTSTAMP:20260422T143340
CREATED:20200824T132848Z
LAST-MODIFIED:20200824T132848Z
UID:2658-1598715000-1598725800@www.oulunuinti.fi
SUMMARY:OuluCup I syksy 2020
DESCRIPTION:OuluCup I lauantaina 29.8.2020. Verryttely klo 15.30-16.00 ja kisat klo 16.00. Ilmoittautuminen oman valmentajan kautta Tempukseen viimeistään tiistaina 25.8.2020
URL:https://www.oulunuinti.fi/tapahtuma/oulucup-i-syksy-2020/
LOCATION:Oulun uimahalli
CATEGORIES:Kilpauinti
END:VEVENT
BEGIN:VEVENT
DTSTART;TZID=Europe/Moscow:20200815T080000
DTEND;TZID=Europe/Moscow:20210531T170000
DTSTAMP:20260422T143340
CREATED:20200815T080818Z
LAST-MODIFIED:20201215T153725Z
UID:2619-1597478400-1622480400@www.oulunuinti.fi
SUMMARY:LIITY OULUN UINNIN JÄSENEKSI!
DESCRIPTION:Jäsenetuna pääset joka viikonloppu seuran perheuintivuoroilla ILMAISEKSI saunomaan\, uimaan\, laskemaan uimahallin liukumäkeä tai kuntosalille. TOISTAISEKSI KORONATILANTEESTA JOHTUEN EI PERHEPEUHUVUOROJA JÄRJESTETÄ! Lisäksi seura järjestää useamman kerran vuodessa monipuolisuus- eli perhepeuhuvuoroja\, jolloin jäsenet pääsevät maksutta Wibit-temppurataan\, pomppimaan hyppytornista\, juoksemaan vesimatolla ja tekemään kaikkea muuta kivaa! \nSeuran jäsenmaksu on vain 30 €/toimintavuosi\, eli 1.8.–31.7. Jäsenmaksu maksetaan liittymisen yhteydessä\, tai jos olet jo jäsen\, voit maksaa SuomiSportissa kauden 2020–2021 jäsenmaksun. Kaikkien Oulun Uinnin ohjattuun toimintaan tai perheuintivuoroon osallistuvien tulee olla seuran jäseniä\, ei siis koske talkootyötä tekeviä. Myös muut perheenjäsenet saavat liittyä seuran jäseniksi\, liittymällä seuran jäseneksi tuet seuran toimintaa. Jos sinulla näkyy järjestelmässä kauden 2019–2020 jäsenmaksu maksamattomana\, voit jättää sen aiheettomana huomiotta\, se poistetaan järjestelmästä myöhemmin. Kesällä EasySwim-\, Kiiturit- ja Sekaristiryhmiin ilmoittautuneet maksoivat jo ilmoittautuessaan seuran jäsenmaksun. Nyt SuomiSportissa jäsenmaksu saattaa näkyä vielä maksamattomana. Tuo maksu on aiheeton\, ja poistamme sen sieltä\, kun järjestelmäpäivitys tulee ja mahdollistaa maksujen muokkaamisen. \nLiity jäseneksi SuomiSportissa alla olevan linkin kautta: \nLIITTYMINEN OULUN UINNIN JÄSENEKSI \nKun olet liittynyt jäseneksi tai olet jäsen\, hyväksy alla oleva kutsu käyttämään seuran perheuintivuoroja kaudella 2020–2021. \nKIRJAUTUMINEN KÄYTTÄMÄÄN PERHEUINTIVUOROA \nKirjautuminen vahvistaa perheuintivuoron käytön. Lataamalla SuomiSport Applikaation näet perheuintivuorot kalenterista. Kalenterissa merkitset osallistumisesi perheuintivuorolle\, ja näytät aulavahdille puhelimesta tämän kalenterinäkymän. Näin saamme kirjattua jäsenten käynnit perheuintivuorolla\, tämä korvaa ennen käytössä olleen nimenkirjoittamisen vihkoon. Myös perheen lasten uimakouluun tulo merkataan SuomiSportin kalenteriin. \nOulun Uinnilla on käytössään Suomen Olympiakomitean SuomiSportpalvelu. Tässä on linkki ohjesivuun\, jossa on mm. ohjevideo palvelusta: \nhttps://info.suomisport.fi/seuroille/ \nJa tässä linkki ”useimmin kysytyt kysymykset” \nhttps://info.suomisport.fi/kysymykset/ \n  \nOLEMALLA SEURAN JÄSEN SAAT KÄYTTÖÖSI ILMAISEKSI SEURAN PERHEUINTIVUOROT JA PEUHUVUOROT\,  \nSEKÄ TUET OULUN UINNIN TOIMINTAA! \nTERVETULOA MUKAAN MUKAVAAN SEURAAN!
URL:https://www.oulunuinti.fi/tapahtuma/liity-oulun-uinnin-jaseneksi/
LOCATION:Oulun uimahalli
CATEGORIES:Tapahtumat Oulun uimahallissa
END:VEVENT
BEGIN:VEVENT
DTSTART;TZID=Europe/Moscow:20200808T153000
DTEND;TZID=Europe/Moscow:20200809T210000
DTSTAMP:20260422T143340
CREATED:20200529T064444Z
LAST-MODIFIED:20200729T133832Z
UID:2450-1596900600-1597006800@www.oulunuinti.fi
SUMMARY:Seuran perheuintivuorot ja uimakoulut alkavat 8.-9.8. viikonloppuna!
DESCRIPTION:Seuran perheuintivuorot ja uimakoulutoiminta kaudelle 2020-2021 alkavat elokuussa lauantaina 8.8. ja sunnuntaina 9.8. \nVanhemmat tuovat lapset altaalle uimakoulun alkaessa ja noutavat pois uimakoulun loppuessa. Vanhemmat saavat seurata lasten uimakoulua altaan reunalta. \nLauantaisin pukuhuoneisiin pääsee klo 15.15. altaisiin saa mennä klo 15.30! \nUima-altailta tulee poistua klo 18.30 ja Uimahallista viimeistään klo 19.00. \nSunnuntaisin pukuhuoneisiin pääsee klo 17.40\, altaisiin saa mennä klo 18.00! \nUima-altailta tulee poistua klo 21.00 ja Uimahallista viimeistään klo 21.15.
URL:https://www.oulunuinti.fi/tapahtuma/seuran-perheuintivuorot-alkavat-8-9-8-viikonloppuna/
LOCATION:Oulun uimahalli
CATEGORIES:Tapahtumat Oulun uimahallissa,Uimakoulut
END:VEVENT
BEGIN:VEVENT
DTSTART;TZID=Europe/Moscow:20200529T080000
DTEND;TZID=Europe/Moscow:20200807T170000
DTSTAMP:20260422T143340
CREATED:20200415T151116Z
LAST-MODIFIED:20200730T064221Z
UID:2378-1590739200-1596819600@www.oulunuinti.fi
SUMMARY:Syksyn 2020 ja kevään 2021 uimakouluryhmissä on vielä tilaa!
DESCRIPTION:Syksyn 2020 ja kevään 2021 ryhmissä on vielä tilaa\, ilmoittaudu heti! \nAlkeis- ja tekniikkauimakoulujen info- ja ilmoittautumissivu löytyy TÄÄLTÄ \nRolloryhmien info- ja ilmoittatumissivu löytyy TÄÄLTÄ \nUintiryhmän info- ja ilmoittatumissivu löytyy TÄÄLTÄ
URL:https://www.oulunuinti.fi/tapahtuma/ilmoittautuminen-syksyn-2020-ja-kevaan-2021-ryhmiin/
CATEGORIES:Tapahtumat Oulun uimahallissa
ATTACH;FMTTYPE=image/jpeg:https://www.oulunuinti.fi/wp-content/uploads/MemmaPeetu.jpg
END:VEVENT
BEGIN:VEVENT
DTSTART;TZID=Europe/Moscow:20200509T153000
DTEND;TZID=Europe/Moscow:20200509T180000
DTSTAMP:20260422T143340
CREATED:20200127T081907Z
LAST-MODIFIED:20200312T172123Z
UID:2269-1589038200-1589047200@www.oulunuinti.fi
SUMMARY:OuluCup VII PERUTTU!
DESCRIPTION:OuluCup VII lauantaina 9.5.2020. Verryttely klo 15.30-16.00 ja kisat klo 16.00. Ilmoittautuminen oman valmentajan kautta Tempukseen viimeistään tiistaina 5.5.2020
URL:https://www.oulunuinti.fi/tapahtuma/oulucup-vii/
LOCATION:Oulun uimahalli
CATEGORIES:Kilpauinti,Tapahtumat Oulun uimahallissa
ATTACH;FMTTYPE=image/jpeg:https://www.oulunuinti.fi/wp-content/uploads/Noora-Pu.jpg
END:VEVENT
BEGIN:VEVENT
DTSTART;TZID=Europe/Moscow:20200428T170000
DTEND;TZID=Europe/Moscow:20200428T190000
DTSTAMP:20260422T143340
CREATED:20200309T062230Z
LAST-MODIFIED:20200426T090847Z
UID:2079-1588093200-1588100400@www.oulunuinti.fi
SUMMARY:Hallituksen kokous
DESCRIPTION:Oulun Uinnin hallituksen kokous tiistaina 28.4.2020 klo 17.00 etäyhteydellä.
URL:https://www.oulunuinti.fi/tapahtuma/hallituksen-kokous-6/
CATEGORIES:Tapahtumat Oulun uimahallissa
ATTACH;FMTTYPE=image/jpeg:https://www.oulunuinti.fi/wp-content/uploads/Pääkuva-5-1-e1491917445307.jpg
END:VEVENT
BEGIN:VEVENT
DTSTART;TZID=Europe/Moscow:20200418T153000
DTEND;TZID=Europe/Moscow:20200418T180000
DTSTAMP:20260422T143340
CREATED:20200127T081733Z
LAST-MODIFIED:20200312T172139Z
UID:2267-1587223800-1587232800@www.oulunuinti.fi
SUMMARY:OuluCup VI PERUTTU!
DESCRIPTION:OuluCup VI lauantaina 18.4.2020. Verryttely klo 15.30-16.00 ja kisat klo 16.00. Ilmoittautuminen oman valmentajan kautta Tempukseen viimeistään tiistaina 14.4.2020
URL:https://www.oulunuinti.fi/tapahtuma/oulucup-vi/
LOCATION:Oulun uimahalli
CATEGORIES:Kilpauinti,Tapahtumat Oulun uimahallissa
ATTACH;FMTTYPE=image/jpeg:https://www.oulunuinti.fi/wp-content/uploads/DSC07752.jpg
END:VEVENT
BEGIN:VEVENT
DTSTART;TZID=Europe/Moscow:20200404T080000
DTEND;TZID=Europe/Moscow:20200405T190000
DTSTAMP:20260422T143340
CREATED:20200113T114323Z
LAST-MODIFIED:20200312T172158Z
UID:2254-1585987200-1586113200@www.oulunuinti.fi
SUMMARY:Nuorisouinnit PERUTTU!
DESCRIPTION:Oulun Uinti järjestää kansalliset Nuorisouinnit 4.-5.4.2020 50m 8-rataa. Ilmoittautuminen Tampukseen 26.3.2020 mennessä. Kisakutsu
URL:https://www.oulunuinti.fi/tapahtuma/nuorisouinnit-2/
CATEGORIES:Kilpauinti
ATTACH;FMTTYPE=image/jpeg:https://www.oulunuinti.fi/wp-content/uploads/IMG_8973.jpg
END:VEVENT
BEGIN:VEVENT
DTSTART;TZID=Europe/Moscow:20200313T170000
DTEND;TZID=Europe/Moscow:20200313T180000
DTSTAMP:20260422T143340
CREATED:20200312T172540Z
LAST-MODIFIED:20200312T172540Z
UID:2337-1584118800-1584122400@www.oulunuinti.fi
SUMMARY:Hallituksen ylimääräinen kokous
DESCRIPTION:Oulun Uinnin hallituksen ylimääräinen kokous Koronaviruksen COVID-19 johdosta Oulun Uimahallilla seuran neuvotteluhuone 13.3.2020 klo 17.00.
URL:https://www.oulunuinti.fi/tapahtuma/hallituksen-ylimaarainen-kokous/
LOCATION:Oulun uimahalli
CATEGORIES:Tapahtumat Oulun uimahallissa
ATTACH;FMTTYPE=image/jpeg:https://www.oulunuinti.fi/wp-content/uploads/20140104_094526.jpg
END:VEVENT
BEGIN:VEVENT
DTSTART;TZID=Europe/Moscow:20200227T180000
DTEND;TZID=Europe/Moscow:20200227T200000
DTSTAMP:20260422T143340
CREATED:20200127T174711Z
LAST-MODIFIED:20200127T174711Z
UID:2271-1582826400-1582833600@www.oulunuinti.fi
SUMMARY:Hallituksen kokous
DESCRIPTION:Oulun Uinnin hallituksen kokous 27.2.2020 klo 18.00 Säästöpankki Optian kokoustiloissa.
URL:https://www.oulunuinti.fi/tapahtuma/hallituksen-kokous-7/
ATTACH;FMTTYPE=image/jpeg:https://www.oulunuinti.fi/wp-content/uploads/Pääkuva-5-1-e1491917445307.jpg
END:VEVENT
BEGIN:VEVENT
DTSTART;TZID=Europe/Moscow:20200222T103000
DTEND;TZID=Europe/Moscow:20200223T170000
DTSTAMP:20260422T143340
CREATED:20200113T113928Z
LAST-MODIFIED:20200113T114507Z
UID:2252-1582367400-1582477200@www.oulunuinti.fi
SUMMARY:Oulun Uinnit
DESCRIPTION:Oulun Uinti järjestää kansalliset Oulun Uinnit Oulun Uimahallissa 22.-23.2.2020 50m 8-rataa. Ilmoittautuminen Tempukseen 13.2.2020. Kisakutsu
URL:https://www.oulunuinti.fi/tapahtuma/oulun-uinnit-3/
CATEGORIES:Kilpauinti
ATTACH;FMTTYPE=image/jpeg:https://www.oulunuinti.fi/wp-content/uploads/IMG_8972.jpg
END:VEVENT
BEGIN:VEVENT
DTSTART;TZID=Europe/Moscow:20200208T153000
DTEND;TZID=Europe/Moscow:20200208T183000
DTSTAMP:20260422T143340
CREATED:20200113T110830Z
LAST-MODIFIED:20200212T114618Z
UID:1974-1581175800-1581186600@www.oulunuinti.fi
SUMMARY:OuluCup V
DESCRIPTION:OuluCup V lauantaina 8.2.2020. Verryttely klo 15.30-16.00 ja kisat klo 16.00. Ilmoittautuminen oman valmentajan kautta Tempukseen viimeistään tiistaina 4.2.2020
URL:https://www.oulunuinti.fi/tapahtuma/oulucup-iv/
LOCATION:Oulun uimahalli
CATEGORIES:Kilpauinti
ATTACH;FMTTYPE=image/jpeg:https://www.oulunuinti.fi/wp-content/uploads/Noora-Pu.jpg
END:VEVENT
END:VCALENDAR