BEGIN:VCALENDAR
VERSION:2.0
PRODID:-//Oulun Uinti - ECPv6.15.20//NONSGML v1.0//EN
CALSCALE:GREGORIAN
METHOD:PUBLISH
X-WR-CALNAME:Oulun Uinti
X-ORIGINAL-URL:https://www.oulunuinti.fi
X-WR-CALDESC:Tapahtumat Oulun Uinti
REFRESH-INTERVAL;VALUE=DURATION:PT1H
X-Robots-Tag:noindex
X-PUBLISHED-TTL:PT1H
BEGIN:VTIMEZONE
TZID:Europe/Moscow
BEGIN:STANDARD
TZOFFSETFROM:+0300
TZOFFSETTO:+0300
TZNAME:MSK
DTSTART:20180101T000000
END:STANDARD
END:VTIMEZONE
BEGIN:VEVENT
DTSTART;TZID=Europe/Moscow:20200808T153000
DTEND;TZID=Europe/Moscow:20200809T210000
DTSTAMP:20260422T150615
CREATED:20200529T064444Z
LAST-MODIFIED:20200729T133832Z
UID:2450-1596900600-1597006800@www.oulunuinti.fi
SUMMARY:Seuran perheuintivuorot ja uimakoulut alkavat 8.-9.8. viikonloppuna!
DESCRIPTION:Seuran perheuintivuorot ja uimakoulutoiminta kaudelle 2020-2021 alkavat elokuussa lauantaina 8.8. ja sunnuntaina 9.8. \nVanhemmat tuovat lapset altaalle uimakoulun alkaessa ja noutavat pois uimakoulun loppuessa. Vanhemmat saavat seurata lasten uimakoulua altaan reunalta. \nLauantaisin pukuhuoneisiin pääsee klo 15.15. altaisiin saa mennä klo 15.30! \nUima-altailta tulee poistua klo 18.30 ja Uimahallista viimeistään klo 19.00. \nSunnuntaisin pukuhuoneisiin pääsee klo 17.40\, altaisiin saa mennä klo 18.00! \nUima-altailta tulee poistua klo 21.00 ja Uimahallista viimeistään klo 21.15.
URL:https://www.oulunuinti.fi/tapahtuma/seuran-perheuintivuorot-alkavat-8-9-8-viikonloppuna/
LOCATION:Oulun uimahalli
CATEGORIES:Tapahtumat Oulun uimahallissa,Uimakoulut
END:VEVENT
BEGIN:VEVENT
DTSTART;TZID=Europe/Moscow:20200529T080000
DTEND;TZID=Europe/Moscow:20200807T170000
DTSTAMP:20260422T150615
CREATED:20200415T151116Z
LAST-MODIFIED:20200730T064221Z
UID:2378-1590739200-1596819600@www.oulunuinti.fi
SUMMARY:Syksyn 2020 ja kevään 2021 uimakouluryhmissä on vielä tilaa!
DESCRIPTION:Syksyn 2020 ja kevään 2021 ryhmissä on vielä tilaa\, ilmoittaudu heti! \nAlkeis- ja tekniikkauimakoulujen info- ja ilmoittautumissivu löytyy TÄÄLTÄ \nRolloryhmien info- ja ilmoittatumissivu löytyy TÄÄLTÄ \nUintiryhmän info- ja ilmoittatumissivu löytyy TÄÄLTÄ
URL:https://www.oulunuinti.fi/tapahtuma/ilmoittautuminen-syksyn-2020-ja-kevaan-2021-ryhmiin/
CATEGORIES:Tapahtumat Oulun uimahallissa
ATTACH;FMTTYPE=image/jpeg:https://www.oulunuinti.fi/wp-content/uploads/MemmaPeetu.jpg
END:VEVENT
BEGIN:VEVENT
DTSTART;TZID=Europe/Moscow:20200509T153000
DTEND;TZID=Europe/Moscow:20200509T180000
DTSTAMP:20260422T150615
CREATED:20200127T081907Z
LAST-MODIFIED:20200312T172123Z
UID:2269-1589038200-1589047200@www.oulunuinti.fi
SUMMARY:OuluCup VII PERUTTU!
DESCRIPTION:OuluCup VII lauantaina 9.5.2020. Verryttely klo 15.30-16.00 ja kisat klo 16.00. Ilmoittautuminen oman valmentajan kautta Tempukseen viimeistään tiistaina 5.5.2020
URL:https://www.oulunuinti.fi/tapahtuma/oulucup-vii/
LOCATION:Oulun uimahalli
CATEGORIES:Kilpauinti,Tapahtumat Oulun uimahallissa
ATTACH;FMTTYPE=image/jpeg:https://www.oulunuinti.fi/wp-content/uploads/Noora-Pu.jpg
END:VEVENT
BEGIN:VEVENT
DTSTART;TZID=Europe/Moscow:20200428T170000
DTEND;TZID=Europe/Moscow:20200428T190000
DTSTAMP:20260422T150615
CREATED:20200309T062230Z
LAST-MODIFIED:20200426T090847Z
UID:2079-1588093200-1588100400@www.oulunuinti.fi
SUMMARY:Hallituksen kokous
DESCRIPTION:Oulun Uinnin hallituksen kokous tiistaina 28.4.2020 klo 17.00 etäyhteydellä.
URL:https://www.oulunuinti.fi/tapahtuma/hallituksen-kokous-6/
CATEGORIES:Tapahtumat Oulun uimahallissa
ATTACH;FMTTYPE=image/jpeg:https://www.oulunuinti.fi/wp-content/uploads/Pääkuva-5-1-e1491917445307.jpg
END:VEVENT
BEGIN:VEVENT
DTSTART;TZID=Europe/Moscow:20200418T153000
DTEND;TZID=Europe/Moscow:20200418T180000
DTSTAMP:20260422T150615
CREATED:20200127T081733Z
LAST-MODIFIED:20200312T172139Z
UID:2267-1587223800-1587232800@www.oulunuinti.fi
SUMMARY:OuluCup VI PERUTTU!
DESCRIPTION:OuluCup VI lauantaina 18.4.2020. Verryttely klo 15.30-16.00 ja kisat klo 16.00. Ilmoittautuminen oman valmentajan kautta Tempukseen viimeistään tiistaina 14.4.2020
URL:https://www.oulunuinti.fi/tapahtuma/oulucup-vi/
LOCATION:Oulun uimahalli
CATEGORIES:Kilpauinti,Tapahtumat Oulun uimahallissa
ATTACH;FMTTYPE=image/jpeg:https://www.oulunuinti.fi/wp-content/uploads/DSC07752.jpg
END:VEVENT
BEGIN:VEVENT
DTSTART;TZID=Europe/Moscow:20200404T080000
DTEND;TZID=Europe/Moscow:20200405T190000
DTSTAMP:20260422T150615
CREATED:20200113T114323Z
LAST-MODIFIED:20200312T172158Z
UID:2254-1585987200-1586113200@www.oulunuinti.fi
SUMMARY:Nuorisouinnit PERUTTU!
DESCRIPTION:Oulun Uinti järjestää kansalliset Nuorisouinnit 4.-5.4.2020 50m 8-rataa. Ilmoittautuminen Tampukseen 26.3.2020 mennessä. Kisakutsu
URL:https://www.oulunuinti.fi/tapahtuma/nuorisouinnit-2/
CATEGORIES:Kilpauinti
ATTACH;FMTTYPE=image/jpeg:https://www.oulunuinti.fi/wp-content/uploads/IMG_8973.jpg
END:VEVENT
BEGIN:VEVENT
DTSTART;TZID=Europe/Moscow:20200313T170000
DTEND;TZID=Europe/Moscow:20200313T180000
DTSTAMP:20260422T150615
CREATED:20200312T172540Z
LAST-MODIFIED:20200312T172540Z
UID:2337-1584118800-1584122400@www.oulunuinti.fi
SUMMARY:Hallituksen ylimääräinen kokous
DESCRIPTION:Oulun Uinnin hallituksen ylimääräinen kokous Koronaviruksen COVID-19 johdosta Oulun Uimahallilla seuran neuvotteluhuone 13.3.2020 klo 17.00.
URL:https://www.oulunuinti.fi/tapahtuma/hallituksen-ylimaarainen-kokous/
LOCATION:Oulun uimahalli
CATEGORIES:Tapahtumat Oulun uimahallissa
ATTACH;FMTTYPE=image/jpeg:https://www.oulunuinti.fi/wp-content/uploads/20140104_094526.jpg
END:VEVENT
BEGIN:VEVENT
DTSTART;TZID=Europe/Moscow:20200227T180000
DTEND;TZID=Europe/Moscow:20200227T200000
DTSTAMP:20260422T150615
CREATED:20200127T174711Z
LAST-MODIFIED:20200127T174711Z
UID:2271-1582826400-1582833600@www.oulunuinti.fi
SUMMARY:Hallituksen kokous
DESCRIPTION:Oulun Uinnin hallituksen kokous 27.2.2020 klo 18.00 Säästöpankki Optian kokoustiloissa.
URL:https://www.oulunuinti.fi/tapahtuma/hallituksen-kokous-7/
ATTACH;FMTTYPE=image/jpeg:https://www.oulunuinti.fi/wp-content/uploads/Pääkuva-5-1-e1491917445307.jpg
END:VEVENT
BEGIN:VEVENT
DTSTART;TZID=Europe/Moscow:20200222T103000
DTEND;TZID=Europe/Moscow:20200223T170000
DTSTAMP:20260422T150615
CREATED:20200113T113928Z
LAST-MODIFIED:20200113T114507Z
UID:2252-1582367400-1582477200@www.oulunuinti.fi
SUMMARY:Oulun Uinnit
DESCRIPTION:Oulun Uinti järjestää kansalliset Oulun Uinnit Oulun Uimahallissa 22.-23.2.2020 50m 8-rataa. Ilmoittautuminen Tempukseen 13.2.2020. Kisakutsu
URL:https://www.oulunuinti.fi/tapahtuma/oulun-uinnit-3/
CATEGORIES:Kilpauinti
ATTACH;FMTTYPE=image/jpeg:https://www.oulunuinti.fi/wp-content/uploads/IMG_8972.jpg
END:VEVENT
BEGIN:VEVENT
DTSTART;TZID=Europe/Moscow:20200208T153000
DTEND;TZID=Europe/Moscow:20200208T183000
DTSTAMP:20260422T150615
CREATED:20200113T110830Z
LAST-MODIFIED:20200212T114618Z
UID:1974-1581175800-1581186600@www.oulunuinti.fi
SUMMARY:OuluCup V
DESCRIPTION:OuluCup V lauantaina 8.2.2020. Verryttely klo 15.30-16.00 ja kisat klo 16.00. Ilmoittautuminen oman valmentajan kautta Tempukseen viimeistään tiistaina 4.2.2020
URL:https://www.oulunuinti.fi/tapahtuma/oulucup-iv/
LOCATION:Oulun uimahalli
CATEGORIES:Kilpauinti
ATTACH;FMTTYPE=image/jpeg:https://www.oulunuinti.fi/wp-content/uploads/Noora-Pu.jpg
END:VEVENT
BEGIN:VEVENT
DTSTART;TZID=Europe/Moscow:20200118T143000
DTEND;TZID=Europe/Moscow:20200118T210000
DTSTAMP:20260422T150615
CREATED:20191219T094307Z
LAST-MODIFIED:20191219T094307Z
UID:2226-1579357800-1579381200@www.oulunuinti.fi
SUMMARY:Toimitsijakoulutus I ja II Oulussa
DESCRIPTION:Oulussa järjestetään Suomen Uimaliiton toimitsijakoulutukset I ja II lauantaina 18.1.2020 klo 14.30-21.00. Kouluttaja toimii Sami Wahlman. Oulun Uinnin jäsenille ja toimitsijoille koulutus on ilmainen\, ilmoittautuminen 13.1.2020 mennessä Tommi Pulkkinen.
URL:https://www.oulunuinti.fi/tapahtuma/toimitsijakoulutus-i-ja-ii-oulussa-2/
LOCATION:Oulun uimahalli
CATEGORIES:Tapahtumat Oulun uimahallissa
ATTACH;FMTTYPE=image/jpeg:https://www.oulunuinti.fi/wp-content/uploads/Raksila-kisa.jpg
END:VEVENT
BEGIN:VEVENT
DTSTART;TZID=Europe/Moscow:20200111T153000
DTEND;TZID=Europe/Moscow:20200112T210000
DTSTAMP:20260422T150615
CREATED:20191217T102547Z
LAST-MODIFIED:20191217T102547Z
UID:2220-1578756600-1578862800@www.oulunuinti.fi
SUMMARY:Kevätkausi 2020 alkaa 11.-12.1.2020
DESCRIPTION:Kevään 2020 uimakoulut jatkuvat viikolla 2\, ja ensimmäinen perheuintivuoro on 11.-12.1.2020. Kevään uimakouluhin ei tarvitse erikseen ilmoittautua\, uimarit jatkavat automaattisesti samoissa ryhmissä kuin syksyllä 2019.
URL:https://www.oulunuinti.fi/tapahtuma/kevatkausi-2020-alkaa-11-12-1-2020/
LOCATION:Oulun uimahalli
CATEGORIES:Tapahtumat Oulun uimahallissa
END:VEVENT
BEGIN:VEVENT
DTSTART;TZID=Europe/Moscow:20191221T180000
DTEND;TZID=Europe/Moscow:20200102T080000
DTSTAMP:20260422T150615
CREATED:20191221T104106Z
LAST-MODIFIED:20191221T104201Z
UID:2228-1576951200-1577952000@www.oulunuinti.fi
SUMMARY:HYVÄÄ JOULUA!
DESCRIPTION:Oulun Uinnin toimisto toivittaa kaikille oikein hyvää\, mutta iloista Joulua. Ja onnellista uutta vuotta ja vuosikymmentä 2020. \nToimisto on joulunajan kiinni ja aukeaa 2.1.2020. Kiitos kuluneesta kaudesta kaikille Jäsenille!
URL:https://www.oulunuinti.fi/tapahtuma/hyvaa-joulua/
LOCATION:Oulun uimahalli
CATEGORIES:Tapahtumat Oulun uimahallissa
ATTACH;FMTTYPE=image/jpeg:https://www.oulunuinti.fi/wp-content/uploads/Pääkuva-5-1-e1491917445307.jpg
END:VEVENT
BEGIN:VEVENT
DTSTART;TZID=Europe/Moscow:20191221T153000
DTEND;TZID=Europe/Moscow:20191221T180000
DTSTAMP:20260422T150615
CREATED:20191111T112441Z
LAST-MODIFIED:20191111T112441Z
UID:2128-1576942200-1576951200@www.oulunuinti.fi
SUMMARY:Syyskauden 2019 päättäjäiset
DESCRIPTION:Kaikkien uimakoulujen päättäjäisiä vietämme lauantaina 21.12.2019 klo 15.30-18.00. Ohjelmassa mm Wibitrataa\, uimahyppyjä ja juoksumattoa. Sunnuntaina 22.12 ei ole uimakouluja\, vaan sunnuntain uimakoululaiset tulevat päättäjäisiin lauantaina.
URL:https://www.oulunuinti.fi/tapahtuma/syyskauden-2019-paattajaiset/
LOCATION:Oulun uimahalli
CATEGORIES:Uimakoulut
ATTACH;FMTTYPE=image/jpeg:https://www.oulunuinti.fi/wp-content/uploads/suomi100.jpg
END:VEVENT
BEGIN:VEVENT
DTSTART;TZID=Europe/Moscow:20191221T140000
DTEND;TZID=Europe/Moscow:20191221T153000
DTSTAMP:20260422T150615
CREATED:20191128T085130Z
LAST-MODIFIED:20191128T100015Z
UID:2169-1576936800-1576942200@www.oulunuinti.fi
SUMMARY:Oulun Uinnin Vuosikokous
DESCRIPTION:Oulun Uinnin sääntömääräinen Vuosikokous pidetään lauantaina 21.12.2019 klo 14.00 alkaen Oulun Uimahallin alakerran saunakabinetissa. \nKokouksessa käsitellään sääntöjen määräämät asiat: \n1 Avataan kokous\n2 Valitaan kokoukselle\na) puheenjohtaja\nb) sihteeri\nc) kaksi pöytäkirjan tarkastajaa\nd) kaksi ääntenlaskijaa\n3 Todetaan läsnä olevat äänioikeutetut jäsenet\n4 Todetaan kokouksen laillisuus ja päätösvaltaisuus\n5 Hyväksytään kokouksen työjärjestys\n6 Esitetään hallituksen laatima vuosikertomus ja tilinpäätös sekä toiminnantarkastajien tai tilintarkastajien\nantama lausunto\n7 Päätetään tilinpäätöksen vahvistamisesta ja vastuuvapauden myöntämisestä hallitukselle ja muille\nvastuuvelvollisille\n8 Käsitellään muut kokouskutsussa mainitut asiat\n9 Päätetään kokous
URL:https://www.oulunuinti.fi/tapahtuma/oulun-uinnin-vuosikokous/
LOCATION:Oulun uimahalli
CATEGORIES:Tapahtumat Oulun uimahallissa
ATTACH;FMTTYPE=image/jpeg:https://www.oulunuinti.fi/wp-content/uploads/Pääkuva-5-1-e1491917445307.jpg
END:VEVENT
BEGIN:VEVENT
DTSTART;TZID=Europe/Moscow:20191206T080000
DTEND;TZID=Europe/Moscow:20191206T170000
DTSTAMP:20260422T150615
CREATED:20191001T111838Z
LAST-MODIFIED:20191001T112029Z
UID:2075-1575619200-1575651600@www.oulunuinti.fi
SUMMARY:Joulukuunkisat
DESCRIPTION:Perinteiset Joulukuunkisat uidaan Itsenäisyyspäivänä perjantaina 6.12.2019 Oulun Uimahallissa. Kisat uidaan 50m radalla. \nHuikeat jouluun liittyvät palkinnot\, mm suklaa joulukalenteraja yms. kivaa. \nTässä on Kutsu_Joulukuunkisat-19
URL:https://www.oulunuinti.fi/tapahtuma/joulukuunkisat-3/
LOCATION:Oulun uimahalli
CATEGORIES:Kilpauinti,Tapahtumat Oulun uimahallissa
END:VEVENT
BEGIN:VEVENT
DTSTART;TZID=Europe/Moscow:20191116T153000
DTEND;TZID=Europe/Moscow:20191116T173000
DTSTAMP:20260422T150615
CREATED:20190830T100720Z
LAST-MODIFIED:20191117T172601Z
UID:1972-1573918200-1573925400@www.oulunuinti.fi
SUMMARY:OuluCup III
DESCRIPTION:OuluCup III lauantaina 16.11.2019. Verryttely klo 15.30-16.00 ja kisat klo 16.00. Ilmoittautuminen oman valmentajan kautta Tempukseen viimeistään tiistaina 12.11.2019 \nLinkki tuloksiin
URL:https://www.oulunuinti.fi/tapahtuma/oulucup-iii/
LOCATION:Oulun uimahalli
CATEGORIES:Kilpauinti
END:VEVENT
BEGIN:VEVENT
DTSTART;TZID=Europe/Moscow:20191101T150000
DTEND;TZID=Europe/Moscow:20191103T190000
DTSTAMP:20260422T150615
CREATED:20191009T093635Z
LAST-MODIFIED:20191009T093635Z
UID:2103-1572620400-1572807600@www.oulunuinti.fi
SUMMARY:Ikäkausimestaruusuintien karsinnat!
DESCRIPTION:Järjestämme yhdessä Oulun Lohien\, Kempeleen Pyrinnön ja Haukiputaan Heiton kanssa 1.-3.11.2019 Suomen Uimaliiton Ikäkausimestaruusuintien valtakunnallisen Pohjois-Suomen karsintakisan. \nPerjantaina kisapaikan rakentaminen alkaa klo 15.00\, kisakanslia ja huolto aloittavat klo 16.00. \nKilpailuverryttely alkaa perjantaina klo 16.30 ja kisajakso klo 18.00. \nLauantai verryttely klo 8.30 ja kisajakso klo 10.00\, iltajakso verryttely klo 15.30 ja kisajakso klo 17.00. \nSunnuntaina verryttely klo 8.30 ja kisajakso klo 10.00\, iltajakso verryttely klo 14.30 ja kisajakso klo 16.00. \nTarvitsemme taas vanhempien talkooapua kisojen läpiviemiseksi\, tässä on linkki Google Sheetsiin\, josta voit valita itsellesi sopivat tehtävät\, kommentoimalla sitä ruutua. \nhttps://docs.google.com/spreadsheets/d/1TfkVogrnecdL_LxMg9ig6UGTRY_OT2M6Li7WtvUffUg/edit?usp=sharing \nJaksot kestävät n 2 – 3 tuntia. Toimitsijoille tarjotaan kahvit ja pientä purtavaa ennen jaksojen alkua sekä kisatauoilla. \nTervetuloa kaikki talkoilemaan!
URL:https://www.oulunuinti.fi/tapahtuma/ikakausimestaruusuintien-karsinnat/
LOCATION:Oulun uimahalli
CATEGORIES:Tapahtumat Oulun uimahallissa
ATTACH;FMTTYPE=image/jpeg:https://www.oulunuinti.fi/wp-content/uploads/20140104_094526.jpg
END:VEVENT
BEGIN:VEVENT
DTSTART;TZID=Europe/Moscow:20191026T153000
DTEND;TZID=Europe/Moscow:20191026T173000
DTSTAMP:20260422T150615
CREATED:20190830T100544Z
LAST-MODIFIED:20191117T172639Z
UID:1970-1572103800-1572111000@www.oulunuinti.fi
SUMMARY:OuluCup II
DESCRIPTION:OuluCup II lauantaina 26.10.2019. Verryttely klo 15.30-16.00 ja kisat klo 16.00. Ilmoittautuminen oman valmentajan kautta Tempukseen viimeistään tiistaina 22.10..2019 \nLinkki tuloksiin
URL:https://www.oulunuinti.fi/tapahtuma/oulucup-ii/
LOCATION:Oulun uimahalli
CATEGORIES:Kilpauinti
END:VEVENT
BEGIN:VEVENT
DTSTART;TZID=Europe/Moscow:20190914T153000
DTEND;TZID=Europe/Moscow:20190914T173000
DTSTAMP:20260422T150615
CREATED:20190830T100346Z
LAST-MODIFIED:20191117T172710Z
UID:1968-1568475000-1568482200@www.oulunuinti.fi
SUMMARY:OuluCup I
DESCRIPTION:OuluCup I lauantaina 14.92019. Verryttely klo 15.30-16.00 ja kisat klo 16.00. Ilmoittautuminen oman valmentajan kautta Tempukseen viimeistään tiistaina 10.9.2019 \nLinkki tuloksiin
URL:https://www.oulunuinti.fi/tapahtuma/oulucup-i/
LOCATION:Oulun uimahalli
CATEGORIES:Kilpauinti
END:VEVENT
BEGIN:VEVENT
DTSTART;TZID=Europe/Moscow:20190910T173000
DTEND;TZID=Europe/Moscow:20190910T200000
DTSTAMP:20260422T150615
CREATED:20190608T070058Z
LAST-MODIFIED:20190816T103850Z
UID:1775-1568136600-1568145600@www.oulunuinti.fi
SUMMARY:Hallituksen kokous.
DESCRIPTION:Oulun Uinnin hallituksen kokous tiistaina 10.9.2019 klo 17.30 Oulun Uimahallilla seuran neuvotteluhuoneessa.
URL:https://www.oulunuinti.fi/tapahtuma/hallituksen-kokous-5/
LOCATION:Oulun uimahalli
CATEGORIES:Tapahtumat Oulun uimahallissa
ATTACH;FMTTYPE=image/jpeg:https://www.oulunuinti.fi/wp-content/uploads/Pääkuva-5-1-e1491917445307.jpg
END:VEVENT
BEGIN:VEVENT
DTSTART;TZID=Europe/Moscow:20190902T180000
DTEND;TZID=Europe/Moscow:20190902T203000
DTSTAMP:20260422T150615
CREATED:20190816T103730Z
LAST-MODIFIED:20190816T103730Z
UID:1939-1567447200-1567456200@www.oulunuinti.fi
SUMMARY:Kilpa- ja edustusryhmien avausinfo!
DESCRIPTION:Arvoisat Oulun Uinnin kilpauimarit ja vanhemmat. \nOulun Uinti järjestää kaikkien kilpauintiryhmien uimareille ja heidän vanhemmilleen\, edustus- ja kilparyhmät\, yhteisen avausinfon maanantaina 2.9.2018 klo 18.00-20.30.00 Laanilan koululla (Hintantie 66) \nOhjelmassa yhteinen ADT:n luento sekä seurainfo. Tämän jälkeen on ryhmäkohtainen oma info jokaiselle ryhmälle. \nMuistathan lunastaa kauden 2019-2020 lisenssin eli BlueCardin elokuun aikana. Lisätiedot Suomen Uimaliiton kotisivuilta.\n(https://www.uimaliitto.fi/info/blue-card-lisenssi/) \nTervetuloa\,\nTommi Pulkkinen\nUrheilutoimenjohtaja\nOulun Uinti
URL:https://www.oulunuinti.fi/tapahtuma/kilpa-ja-edustusryhmien-avausinfo/
LOCATION:Laanilan koulu\, Hintantie 66\, Oulu\, 90650
CATEGORIES:Kilpauinti
ATTACH;FMTTYPE=image/png:https://www.oulunuinti.fi/wp-content/uploads/Tähtiseura-3.png
END:VEVENT
BEGIN:VEVENT
DTSTART;TZID=Europe/Moscow:20190831T153000
DTEND;TZID=Europe/Moscow:20190901T210000
DTSTAMP:20260422T150615
CREATED:20190809T065547Z
LAST-MODIFIED:20190809T065547Z
UID:1903-1567265400-1567371600@www.oulunuinti.fi
SUMMARY:UIMAKOULUKAUSI ALKAA 31.8.-1.9. VIIKONLOPPUNA!
DESCRIPTION:Uimakoulukausi 2019-2020 alkaa lauantaina 31.8. ja sunnuntaina 1.9. viikonloppuna\, koska Oulun Uimahalli on kiinni 25.8. asti vuosiremontin vuoksi. Kaikille uimakoululaisille ja uimaryhmäläisille lähetetään infokirje ennen ryhmien alkua.
URL:https://www.oulunuinti.fi/tapahtuma/uimakoulukausi-alkaa-31-8-1-9-viikonloppuna/
LOCATION:Oulun uimahalli
CATEGORIES:Tapahtumat Oulun uimahallissa,Uimakoulut
END:VEVENT
BEGIN:VEVENT
DTSTART;TZID=Europe/Moscow:20190627T080000
DTEND;TZID=Europe/Moscow:20190630T190000
DTSTAMP:20260422T150615
CREATED:20190617T102037Z
LAST-MODIFIED:20190617T102112Z
UID:1884-1561622400-1561921200@www.oulunuinti.fi
SUMMARY:NSM/SM-kisat Leppävaarassa 27.-30.6.2019
DESCRIPTION:Oulun Uinnista lähtee Leppävaaran maauimalaan 42-henkilön joukkue ratkomaan SM-mitaleja. Seuraa kisatapahtumia LiveTiming-palvelussa tai Uimaliiton kisasivuilta.
URL:https://www.oulunuinti.fi/tapahtuma/nsm-sm-kisat-leppavaarassa-27-30-6-2019/
ATTACH;FMTTYPE=image/png:https://www.oulunuinti.fi/wp-content/uploads/Tähtiseura-3.png
END:VEVENT
BEGIN:VEVENT
DTSTART;TZID=Europe/Moscow:20190613T080000
DTEND;TZID=Europe/Moscow:20190823T170000
DTSTAMP:20260422T150615
CREATED:20190613T192018Z
LAST-MODIFIED:20190613T193918Z
UID:1870-1560412800-1566579600@www.oulunuinti.fi
SUMMARY:Kauden 2019-2020 uimakoulut ovat myynnissä!
DESCRIPTION:Ilmoittautuminen Oulun Uinnin syksyn 2019 uimakouluihin\, uintiryhmiin ja kursseille on nyt avattu! Ilmoittaudu nyt ja varmista paikkasi tulevalle kaudelle!Uimakoulut:– EasySwim uimakoulut eli uinnin alkeisopetusryhmät– Tekniikkauimakoulut eli Kiituri- ja Sekaristiryhmät Lisätietoja ja ilmoittautumiset http://www.oulunuinti.fi/uimakoulut/Kurssit:– Lasten Opi Uimaan Takuulla -kurssit– Aikuisten tekniikkakurssitLisätietoja ja ilmoittautumiset http://www.oulunuinti.fi/kurssitoiminta/Uintiryhmät:– Rolloryhmät eli lasten uintiryhmätLisätietoja ja ilmoittautumiset http://www.oulunuinti.fi/uimakoulut/rolloryhmat/– Nuorten uintiryhmäLisätietoja ja ilmoittautumiset http://www.oulunuinti.fi/kurssitoiminta/nuoret/– Aikuisten kuntoryhmäLisätietoja ja ilmoittautumiset http://www.oulunuinti.fi/kurssitoiminta/aikuisten-kuntoryhma/– Aikuisten mastersryhmä– Aikuisten vapaauintiryhmäLisätietoja ja ilmoittautumiset http://www.oulunuinti.fi/kurssitoiminta/masters-vapaauintiryhma/ \n 
URL:https://www.oulunuinti.fi/tapahtuma/kauden-2019-2020-uimakoulut-ovat-myynnissa/
CATEGORIES:Uimakoulut
ATTACH;FMTTYPE=image/jpeg:https://www.oulunuinti.fi/wp-content/uploads/Memma.jpg
END:VEVENT
BEGIN:VEVENT
DTSTART;TZID=Europe/Moscow:20190607T080000
DTEND;TZID=Europe/Moscow:20190612T170000
DTSTAMP:20260422T150615
CREATED:20190509T190156Z
LAST-MODIFIED:20190608T082134Z
UID:1787-1559894400-1560358800@www.oulunuinti.fi
SUMMARY:Rollot 2019
DESCRIPTION:Seuraa kisoja Livetiming \nLisätietoja Rollo-kotisivuilta \nRollot 2019 Oulussa pe 7.6.-ke 12.6.2019 \nToimitsijainfo \n\nToimitsijapaita on uusi rollopaita\, OU-neukkarista\nmielellään tummat shortsit/housut\nvedenpitävät kengät\njaksoille on ruoka linjastossa\, ruokaliput kuitataan huollosta OU-neukkarista\, ennen ja jälkeen kahvia ja keksiä OU-neukkarissa. Kilpailevat lapset saavat nyt ruuat Rollorannekkeella\, joten heille ei ole ruokaa tällä kertaa.\n\nToimitsija-aikataulut\, arvioidut \npe 7.6.2019 \nklo 14.40 toimitsijapalaveri kaupungin liikuntasalissa \nLippumarssi\, juhlapuhe\, maamme-laulu \nklo 15.30 jakso alkaa \nklo 18.43 jakso loppuu \n  \nla 8.6.2019 \nklo 08.40 toimitsijapalaveri kaupungin liikuntasalissa \nklo 09.30 jakso alkaa \nklo 12.29 jakso loppuu \n  \nklo 15.40 toimitsijapalaveri kaupungin liikuntasalissa \nklo 16.30 jakso alkaa \nklo 19.28 jakso loppuu \n  \nsu 9.6.2019 \nklo 08.40 toimitsijapalaveri kaupungin liikuntasalissa \nklo 09.30 jakso alkaa \nklo 13.19  jakso loppuu \n  \nklo 14.40 toimitsijapalaveri kaupungin liikuntasalissa \nklo 15.30 jakso alkaa \nklo 18.42 jakso loppuu \nKaikki toimitsijat osallistuvat kilpailuiden purkamiseen ja otamme mielellämme kantoapua muiltakin vastaan. \n  \nTervetuloa kesän huikeimpaan uintitapahtumaan! \nRollot 2019 toimitsijalista \nKysymyksiä voi laittaa anu.hokka@oulunuinti.fi ja/tai nykäistä hihasta hallilla. \n  \n 
URL:https://www.oulunuinti.fi/tapahtuma/rollot-2019/
LOCATION:Oulun uimahalli
END:VEVENT
BEGIN:VEVENT
DTSTART;TZID=Europe/Moscow:20190529T170000
DTEND;TZID=Europe/Moscow:20190529T183000
DTSTAMP:20260422T150615
CREATED:20190529T055350Z
LAST-MODIFIED:20190529T055350Z
UID:1804-1559149200-1559154600@www.oulunuinti.fi
SUMMARY:Sekaristeilla on HOPLOP 29.5.2019!
DESCRIPTION:Sekaristiryhmällä on vielä tänään HopLop-vuoro rytmityksen mukaan.
URL:https://www.oulunuinti.fi/tapahtuma/sekaristeilla-on-hoplop-29-5-2019/
LOCATION:HopLop\, Alasintie 10\, Oulu\, Suomi
CATEGORIES:Uimakoulut
END:VEVENT
BEGIN:VEVENT
DTSTART;TZID=Europe/Moscow:20190527T183000
DTEND;TZID=Europe/Moscow:20190527T200000
DTSTAMP:20260422T150615
CREATED:20190411T070433Z
LAST-MODIFIED:20190411T070433Z
UID:1777-1558981800-1558987200@www.oulunuinti.fi
SUMMARY:Sääntömääräinen kevätkokous
DESCRIPTION:Oulun Uinnin sääntömääräinen kevätkokous pidetään maanantaina 27.5.2019 klo 18.30 alkaen Oulun Uimmahallilla seuran liikuntasalissa. Vuosikokouksessa käsitellään sääntöjen määräämät asiat\, kaikki jäsenet ovat tervetulleita.
URL:https://www.oulunuinti.fi/tapahtuma/saantomaarainen-kevatkokous/
LOCATION:Oulun uimahalli
CATEGORIES:Tapahtumat Oulun uimahallissa
ATTACH;FMTTYPE=image/png:https://www.oulunuinti.fi/wp-content/uploads/Tähtiseura-3.png
END:VEVENT
BEGIN:VEVENT
DTSTART;TZID=Europe/Moscow:20190526T180000
DTEND;TZID=Europe/Moscow:20190526T200000
DTSTAMP:20260422T150615
CREATED:20190125T082112Z
LAST-MODIFIED:20190411T070804Z
UID:1704-1558893600-1558900800@www.oulunuinti.fi
SUMMARY:Kevätkauden 2019 päättäjäiset!
DESCRIPTION:Oulun Uinnin uimakoulujen kevätkauden 2019 päättäjäiset sunnuntaina 26.5.2019. klo 18.00 – 20.00. Altaassa Wibit\, juoksumatto ja SUP-laudat\, myös hyppytorni auki ja monitoimialtaalla vesidisko. Kahvion perällä diplomit ja mitalit. Lauantaina 25.5.2019 EI OLE perheuintivuoroa eikä seuranvoroa!
URL:https://www.oulunuinti.fi/tapahtuma/kevatkauden-2019-paattajaiset/
LOCATION:Oulun uimahalli
CATEGORIES:Tapahtumat Oulun uimahallissa,Uimakoulut
ATTACH;FMTTYPE=image/jpeg:https://www.oulunuinti.fi/wp-content/uploads/wibit.jpg
END:VEVENT
BEGIN:VEVENT
DTSTART;TZID=Europe/Moscow:20190525T080000
DTEND;TZID=Europe/Moscow:20190526T170000
DTSTAMP:20260422T150615
CREATED:20190125T081649Z
LAST-MODIFIED:20190125T081725Z
UID:1702-1558771200-1558890000@www.oulunuinti.fi
SUMMARY:Lohiuinnit
DESCRIPTION:Oulun Lohet järjestävät kansalliset Lohiuinnit Oulun Uimahallissa 25.-26.5. klo 8.00 alkaen\, halli on kokonaan suljettu. Oulun Uinnin lauantain perheuintivuoro on peruttu\, kaikki lauantain ryhmät tulevat sunnununtaina 26.5. Oulun Uinnin kevätkauden 2019 päättäjäisiin klo 18.00-20.00.
URL:https://www.oulunuinti.fi/tapahtuma/lohiuinnit/
CATEGORIES:Tapahtumat Oulun uimahallissa
ATTACH;FMTTYPE=image/jpeg:https://www.oulunuinti.fi/wp-content/uploads/PM-allas.jpg
END:VEVENT
END:VCALENDAR